BEGIN:VCALENDAR
VERSION:2.0
PRODID:-//SSAC Hockey - ECPv4.5.7//NONSGML v1.0//EN
CALSCALE:GREGORIAN
METHOD:PUBLISH
X-WR-CALNAME:SSAC Hockey
X-ORIGINAL-URL:https://ssac.hockey
X-WR-CALDESC:Events for SSAC Hockey
BEGIN:VEVENT
DTSTART;TZID=America/Edmonton:20260304T184500
DTEND;TZID=America/Edmonton:20260304T194500
DTSTAMP:20260422T182921
CREATED:20260225T022341Z
LAST-MODIFIED:20260225T022341Z
UID:<span 
                data-original-string="nnY2GMJtW8PHCcWoYtlQuA==052K+YT5mrKA44TE0zCPcL9KtX415jeN6DXT/4ulyp0laThaP9BPV+WCmTy3PSHPsS8"
                class="apbct-email-encoder"
                title="This contact has been encoded by Anti-Spam by CleanTalk. Click to decode. To finish the decoding make sure that JavaScript is enabled in your browser.">44<span class="apbct-blur">*************************@ss**.hock</span>ey</span>
SUMMARY:U11 AA HK Practice 18:45 DON
DESCRIPTION:U11 AA ZerOne Hockeyology @ Donnan \n
URL:https://ssac.hockey/event/u11-aa-hk-practice-1845-don/
LOCATION:9105 80 Avenue\, Edmonton\, AB\, T6C 0N9\, Canada
CATEGORIES:U11 AA,U11 AA ZerOne Hockeyology
END:VEVENT
END:VCALENDAR