BEGIN:VCALENDAR
VERSION:2.0
PRODID:-//SSAC Hockey - ECPv4.5.7//NONSGML v1.0//EN
CALSCALE:GREGORIAN
METHOD:PUBLISH
X-WR-CALNAME:SSAC Hockey
X-ORIGINAL-URL:https://ssac.hockey
X-WR-CALDESC:Events for SSAC Hockey
BEGIN:VEVENT
DTSTART;VALUE=DATE:20260213
DTEND;VALUE=DATE:20260215
DTSTAMP:20260422T202729
CREATED:20260107T085438Z
LAST-MODIFIED:20260107T085438Z
UID:<span 
                data-original-string="TtHQuekHOTQmZ3aQlyMcag==052h3NZIEVrk3gu5MH2lA53s7X9VXSq9dAAkkHQ4xDvI0s36w+RoUSIatvdfFYWm1wT"
                class="apbct-email-encoder"
                title="This contact has been encoded by Anti-Spam by CleanTalk. Click to decode. To finish the decoding make sure that JavaScript is enabled in your browser.">43<span class="apbct-blur">*************************@ss**.hock</span>ey</span>
SUMMARY:U11 AA HK Battle of the Biscuit Tournament
DESCRIPTION:U11 AA ZerOne Hockeyology at Bow Valley U11 Battle of the Biscuit Tournament @ Trico | Calgary \n
URL:https://ssac.hockey/event/u11-aa-hk-battle-of-the-biscuit-tournament/
CATEGORIES:U11 AA,U11 AA ZerOne Hockeyology
END:VEVENT
END:VCALENDAR