BEGIN:VCALENDAR
VERSION:2.0
PRODID:-//SSAC Hockey - ECPv4.5.7//NONSGML v1.0//EN
CALSCALE:GREGORIAN
METHOD:PUBLISH
X-WR-CALNAME:SSAC Hockey
X-ORIGINAL-URL:https://ssac.hockey
X-WR-CALDESC:Events for SSAC Hockey
BEGIN:VEVENT
DTSTART;TZID=America/Edmonton:20260128T181500
DTEND;TZID=America/Edmonton:20260128T193000
DTSTAMP:20260422T223219
CREATED:20260102T014500Z
LAST-MODIFIED:20260102T014500Z
UID:<span 
                data-original-string="Hvpdtrh5zset0Y31dd2xnQ==052bY700M0ntdUhW3KNXpHqOgX9gaIcIcPuybwz9W1omo8HE3qrfZJBlxdmDW+eVRLF"
                class="apbct-email-encoder"
                title="This contact has been encoded by Anti-Spam by CleanTalk. Click to decode. To finish the decoding make sure that JavaScript is enabled in your browser.">43<span class="apbct-blur">*************************@ss**.hock</span>ey</span>
SUMMARY:U11 AA HK Game 18:15 TCC
DESCRIPTION:U11 AA ZerOne Hockeyology vs PAC Progressive Property Management Saints @ Terwillegar C \n
URL:https://ssac.hockey/event/u11-aa-hk-game-1815-tcc/
LOCATION:2051 Leger Rd NW\, Edmonton\, AB\, T6R 0R8\, Canada
CATEGORIES:U11 AA,U11 AA ZerOne Hockeyology
END:VEVENT
END:VCALENDAR