BEGIN:VCALENDAR
VERSION:2.0
PRODID:-//SSAC Hockey - ECPv4.5.7//NONSGML v1.0//EN
CALSCALE:GREGORIAN
METHOD:PUBLISH
X-WR-CALNAME:SSAC Hockey
X-ORIGINAL-URL:https://ssac.hockey
X-WR-CALDESC:Events for SSAC Hockey
BEGIN:VEVENT
DTSTART;TZID=America/Edmonton:20260124T133000
DTEND;TZID=America/Edmonton:20260124T150000
DTSTAMP:20260422T223236
CREATED:20260102T014459Z
LAST-MODIFIED:20260102T014459Z
UID:<span 
                data-original-string="LmB9T0sPhEz/UO6eQJtWVg==052QE+QMrDlC2JpyLXHGftd71LaWHD5KbiX4eI3iUrnpNo1FYWzykrPgzN+dVj4cXNW"
                class="apbct-email-encoder"
                title="This contact has been encoded by Anti-Spam by CleanTalk. Click to decode. To finish the decoding make sure that JavaScript is enabled in your browser.">43<span class="apbct-blur">*************************@ss**.hock</span>ey</span>
SUMMARY:U11 AA HK Game 13:30 KN1
DESCRIPTION:U11 AA ZerOne Hockeyology at BAC Beaumont Blazers @ Ken Nichol 1 \n
URL:https://ssac.hockey/event/u11-aa-hk-game-1330-kn1/
CATEGORIES:U11 AA,U11 AA ZerOne Hockeyology
END:VEVENT
END:VCALENDAR