BEGIN:VCALENDAR
VERSION:2.0
PRODID:-//SSAC Hockey - ECPv4.5.7//NONSGML v1.0//EN
CALSCALE:GREGORIAN
METHOD:PUBLISH
X-WR-CALNAME:SSAC Hockey
X-ORIGINAL-URL:https://ssac.hockey
X-WR-CALDESC:Events for SSAC Hockey
BEGIN:VEVENT
DTSTART;TZID=America/Edmonton:20260123T170000
DTEND;TZID=America/Edmonton:20260123T180000
DTSTAMP:20260422T223246
CREATED:20260102T014455Z
LAST-MODIFIED:20260102T014455Z
UID:<span 
                data-original-string="gHdqQlgqmhKG5f6UzrQVMw==0522irRj3poRvtSCUvPst8b8VnI2mIzev3xeBb6s6/04gU9lxZbP+sPni7/ewC67GtF"
                class="apbct-email-encoder"
                title="This contact has been encoded by Anti-Spam by CleanTalk. Click to decode. To finish the decoding make sure that JavaScript is enabled in your browser.">43<span class="apbct-blur">*************************@ss**.hock</span>ey</span>
SUMMARY:U11 AA HK Practice 17:00 SSA
DESCRIPTION:U11 AA ZerOne Hockeyology @ George S Hughes South Side \n
URL:https://ssac.hockey/event/u11-aa-hk-practice-1700-ssa-7/
LOCATION:10525 72 Ave. NW\, Edmonton\, AB\, T6E 0Z7\, Canada
CATEGORIES:U11 AA,U11 AA ZerOne Hockeyology
END:VEVENT
END:VCALENDAR