BEGIN:VCALENDAR
VERSION:2.0
PRODID:-//SSAC Hockey - ECPv4.5.7//NONSGML v1.0//EN
CALSCALE:GREGORIAN
METHOD:PUBLISH
X-WR-CALNAME:SSAC Hockey
X-ORIGINAL-URL:https://ssac.hockey
X-WR-CALDESC:Events for SSAC Hockey
BEGIN:VEVENT
DTSTART;TZID=America/Edmonton:20260115T163000
DTEND;TZID=America/Edmonton:20260115T173000
DTSTAMP:20260422T223424
CREATED:20260102T014454Z
LAST-MODIFIED:20260102T014454Z
UID:<span 
                data-original-string="+B7Wd4fLPaY/q0LaMp94UA==052PcNK3WTkE+yfkp/gE1t24BsN7ijNWk9idHkyoNzZxLf7EL7P1jYDCLtsKVgtg4Em"
                class="apbct-email-encoder"
                title="This contact has been encoded by Anti-Spam by CleanTalk. Click to decode. To finish the decoding make sure that JavaScript is enabled in your browser.">43<span class="apbct-blur">*************************@ss**.hock</span>ey</span>
SUMMARY:U11 AA HK Practice 16:30 TCA
DESCRIPTION:U11 AA ZerOne Hockeyology @ Terwillegar A \n
URL:https://ssac.hockey/event/u11-aa-hk-practice-1630-tca/
LOCATION:2051 Leger Rd NW\, Edmonton\, AB\, T6R 0R8\, Canada
CATEGORIES:U11 AA,U11 AA ZerOne Hockeyology
END:VEVENT
END:VCALENDAR