BEGIN:VCALENDAR
VERSION:2.0
PRODID:-//SSAC Hockey - ECPv4.5.7//NONSGML v1.0//EN
CALSCALE:GREGORIAN
METHOD:PUBLISH
X-WR-CALNAME:SSAC Hockey
X-ORIGINAL-URL:https://ssac.hockey
X-WR-CALDESC:Events for SSAC Hockey
BEGIN:VEVENT
DTSTART;TZID=America/Edmonton:20260110T120000
DTEND;TZID=America/Edmonton:20260110T133000
DTSTAMP:20260422T223236
CREATED:20260102T014458Z
LAST-MODIFIED:20260102T014458Z
UID:<span 
                data-original-string="7RjXYgsfmdw4+GA9D5yS8Q==0529pvYFRg4ke/4SAhafPGOdxtq0zYPR/iI92ny853pGY7tFKcyaErC80m8Ckn15M70"
                class="apbct-email-encoder"
                title="This contact has been encoded by Anti-Spam by CleanTalk. Click to decode. To finish the decoding make sure that JavaScript is enabled in your browser.">43<span class="apbct-blur">*************************@ss**.hock</span>ey</span>
SUMMARY:U11 AA HK Showcase Game 12:00 MOY
DESCRIPTION:U11 AA ZerOne Hockeyology at Olds Grizzlys @ Moyer \n
URL:https://ssac.hockey/event/u11-aa-hk-showcase-game-1200-moy/
CATEGORIES:U11 AA,U11 AA ZerOne Hockeyology
END:VEVENT
BEGIN:VEVENT
DTSTART;TZID=America/Edmonton:20260110T160000
DTEND;TZID=America/Edmonton:20260110T173000
DTSTAMP:20260422T223236
CREATED:20260102T014458Z
LAST-MODIFIED:20260102T014458Z
UID:<span 
                data-original-string="03R2aIPao2eQTp3L8eSIpQ==052sgei0Ma3eFZH9Po0Y6hJCMSxN4AzZuzZbfZsCw2jywGZyuNi8iYTTPLITeLzRTMa"
                class="apbct-email-encoder"
                title="This contact has been encoded by Anti-Spam by CleanTalk. Click to decode. To finish the decoding make sure that JavaScript is enabled in your browser.">43<span class="apbct-blur">*************************@ss**.hock</span>ey</span>
SUMMARY:U11 AA HK Showcase Game 16:00 SPS
DESCRIPTION:U11 AA ZerOne Hockeyology vs BAC Beaumont Blazers @ Sherwood Park Shell \n
URL:https://ssac.hockey/event/u11-aa-hk-showcase-game-1600-sps/
LOCATION:2015 Oak St\, Sherwood Park\, AB\, T8A 0W9\, Canada
CATEGORIES:U11 AA,U11 AA ZerOne Hockeyology
END:VEVENT
END:VCALENDAR