BEGIN:VCALENDAR
VERSION:2.0
PRODID:-//SSAC Hockey - ECPv4.5.7//NONSGML v1.0//EN
CALSCALE:GREGORIAN
METHOD:PUBLISH
X-WR-CALNAME:SSAC Hockey
X-ORIGINAL-URL:https://ssac.hockey
X-WR-CALDESC:Events for SSAC Hockey
BEGIN:VEVENT
DTSTART;TZID=America/Edmonton:20260104T181500
DTEND;TZID=America/Edmonton:20260104T191500
DTSTAMP:20260422T223029
CREATED:20260102T014451Z
LAST-MODIFIED:20260102T014451Z
UID:<span 
                data-original-string="pCN3uq/MHoVp/ruYBhzMTg==0524qh3FVaYwty2aVLlErz7W3CqF2wGDdCV9EqfG3XR3HkdBXwBPUduiiUTm4YkW+V2"
                class="apbct-email-encoder"
                title="This contact has been encoded by Anti-Spam by CleanTalk. Click to decode. To finish the decoding make sure that JavaScript is enabled in your browser.">43<span class="apbct-blur">*************************@ss**.hock</span>ey</span>
SUMMARY:U11 AA HK Practice 18:15 CFA
DESCRIPTION:U11 AA ZerOne Hockeyology @ Confederation \n
URL:https://ssac.hockey/event/u11-aa-hk-practice-1815-cfa-4/
LOCATION:11204 43 Ave NW\, Edmonton\, AB\, T6J 2R3\, Canada
CATEGORIES:U11 AA,U11 AA ZerOne Hockeyology
END:VEVENT
END:VCALENDAR