BEGIN:VCALENDAR
VERSION:2.0
PRODID:-//SSAC Hockey - ECPv4.5.7//NONSGML v1.0//EN
CALSCALE:GREGORIAN
METHOD:PUBLISH
X-WR-CALNAME:SSAC Hockey
X-ORIGINAL-URL:https://ssac.hockey
X-WR-CALDESC:Events for SSAC Hockey
BEGIN:VEVENT
DTSTART;TZID=America/Edmonton:20251221T091500
DTEND;TZID=America/Edmonton:20251221T103000
DTSTAMP:20260423T002602
CREATED:20251209T224808Z
LAST-MODIFIED:20251209T224808Z
UID:<span 
                data-original-string="uGxe21eWqUBQAnAwaTc3oA==052UiTzwn6CwKyO4j6JMUcRPIk/fl/0QmgRiqwiWL90bSYgSMvA9igX82AKAs8Gpv/F"
                class="apbct-email-encoder"
                title="This contact has been encoded by Anti-Spam by CleanTalk. Click to decode. To finish the decoding make sure that JavaScript is enabled in your browser.">43<span class="apbct-blur">*************************@ss**.hock</span>ey</span>
SUMMARY:U11 AA HK Game 09:15 RRR
DESCRIPTION:U11 AA ZerOne Hockeyology at Sherwood Park Arrows @ Randy Rosen \n
URL:https://ssac.hockey/event/u11-aa-hk-game-0915-rrr/
CATEGORIES:U11 AA,U11 AA ZerOne Hockeyology
END:VEVENT
END:VCALENDAR