BEGIN:VCALENDAR
VERSION:2.0
PRODID:-//SSAC Hockey - ECPv4.5.7//NONSGML v1.0//EN
CALSCALE:GREGORIAN
METHOD:PUBLISH
X-WR-CALNAME:SSAC Hockey
X-ORIGINAL-URL:https://ssac.hockey
X-WR-CALDESC:Events for SSAC Hockey
BEGIN:VEVENT
DTSTART;TZID=America/Edmonton:20251212T170000
DTEND;TZID=America/Edmonton:20251212T180000
DTSTAMP:20260423T002727
CREATED:20251021T202006Z
LAST-MODIFIED:20251021T202006Z
UID:<span 
                data-original-string="pPoqkgLJjGwd0Kh/kH8eww==0521WZMD/1yj9NmVHKM6BTc6upJx9VC3T5P1mVb7KOZ7abvvRE+DytWbZ7voIMaofWA"
                class="apbct-email-encoder"
                title="This contact has been encoded by Anti-Spam by CleanTalk. Click to decode. To finish the decoding make sure that JavaScript is enabled in your browser.">41<span class="apbct-blur">*************************@ss**.hock</span>ey</span>
SUMMARY:U11 AA HK Practice 17:00 SSA
DESCRIPTION:U11 AA ZerOne Hockeyology @ George S Hughes South Side \n
URL:https://ssac.hockey/event/u11-aa-hk-practice-1700-ssa-5/
LOCATION:10525 72 Ave. NW\, Edmonton\, AB\, T6E 0Z7\, Canada
CATEGORIES:U11 AA,U11 AA ZerOne Hockeyology
END:VEVENT
END:VCALENDAR