BEGIN:VCALENDAR
VERSION:2.0
PRODID:-//SSAC Hockey - ECPv4.5.7//NONSGML v1.0//EN
CALSCALE:GREGORIAN
METHOD:PUBLISH
X-WR-CALNAME:SSAC Hockey
X-ORIGINAL-URL:https://ssac.hockey
X-WR-CALDESC:Events for SSAC Hockey
BEGIN:VEVENT
DTSTART;TZID=America/Edmonton:20251125T183000
DTEND;TZID=America/Edmonton:20251125T193000
DTSTAMP:20260423T022641
CREATED:20251021T200211Z
LAST-MODIFIED:20251021T200211Z
UID:<span 
                data-original-string="3uk0Eqqrh7xhA5BUrGdOOg==052L60LnD3E0Y9htbH8ZYodSVVGCxXrVyqQgqFdFDnXz4bEVFwWqXoJ5e/L7rAPb/Bs"
                class="apbct-email-encoder"
                title="This contact has been encoded by Anti-Spam by CleanTalk. Click to decode. To finish the decoding make sure that JavaScript is enabled in your browser.">41<span class="apbct-blur">*************************@ss**.hock</span>ey</span>
SUMMARY:U11 AA HK Practice 18:30 TCC
DESCRIPTION:U11 AA ZerOne Hockeyology @ Terwillegar C \n
URL:https://ssac.hockey/event/u11-aa-hk-practice-1830-tcc-4/
LOCATION:2051 Leger Rd NW\, Edmonton\, AB\, T6R 0R8\, Canada
CATEGORIES:U11 AA,U11 AA ZerOne Hockeyology
END:VEVENT
END:VCALENDAR