BEGIN:VCALENDAR
VERSION:2.0
PRODID:-//SSAC Hockey - ECPv4.5.7//NONSGML v1.0//EN
CALSCALE:GREGORIAN
METHOD:PUBLISH
X-WR-CALNAME:SSAC Hockey
X-ORIGINAL-URL:https://ssac.hockey
X-WR-CALDESC:Events for SSAC Hockey
BEGIN:VEVENT
DTSTART;TZID=America/Edmonton:20251116T174500
DTEND;TZID=America/Edmonton:20251116T190000
DTSTAMP:20260423T022642
CREATED:20251021T200215Z
LAST-MODIFIED:20251021T200215Z
UID:<span 
                data-original-string="egF+N2kd21DJlDMaCQLcSw==052Mxzk2BFx2wmdhHnDtgPzNbelFoCPmsMpMh2BLybJ/F2p8EmXDQnxF5lIxZoGLB+N"
                class="apbct-email-encoder"
                title="This contact has been encoded by Anti-Spam by CleanTalk. Click to decode. To finish the decoding make sure that JavaScript is enabled in your browser.">41<span class="apbct-blur">*************************@ss**.hock</span>ey</span>
SUMMARY:U11 AA HK Game 17:45 TCC
DESCRIPTION:U11 AA ZerOne Hockeyology vs CAC Bladz West @ Terwillegar C \n
URL:https://ssac.hockey/event/u11-aa-hk-game-1745-tcc/
LOCATION:2051 Leger Rd NW\, Edmonton\, AB\, T6R 0R8\, Canada
CATEGORIES:U11 AA,U11 AA ZerOne Hockeyology
END:VEVENT
END:VCALENDAR