BEGIN:VCALENDAR
VERSION:2.0
PRODID:-//SSAC Hockey - ECPv4.5.7//NONSGML v1.0//EN
CALSCALE:GREGORIAN
METHOD:PUBLISH
X-WR-CALNAME:SSAC Hockey
X-ORIGINAL-URL:https://ssac.hockey
X-WR-CALDESC:Events for SSAC Hockey
BEGIN:VEVENT
DTSTART;TZID=America/Edmonton:20251023T173000
DTEND;TZID=America/Edmonton:20251023T183000
DTSTAMP:20260423T042547
CREATED:20250924T202945Z
LAST-MODIFIED:20250924T202945Z
UID:<span 
                data-original-string="3ibU7gCZGRGs/eXNSlBeTA==052DAl3ITTn4pmf4x0J+4vL9gaJWya3nQK3fmkMH+Ub5LO953bscj5MtPiLsXCc633c"
                class="apbct-email-encoder"
                title="This contact has been encoded by Anti-Spam by CleanTalk. Click to decode. To finish the decoding make sure that JavaScript is enabled in your browser.">40<span class="apbct-blur">*************************@ss**.hock</span>ey</span>
SUMMARY:U11 AA HK Practice 17:30 SSA
DESCRIPTION:U11 AA ZerOne Hockeyology @ George S Hughes South Side \n
URL:https://ssac.hockey/event/u11-aa-hk-practice-1730-ssa-2/
LOCATION:10525 72 Ave. NW\, Edmonton\, AB\, T6E 0Z7\, Canada
CATEGORIES:U11 AA,U11 AA ZerOne Hockeyology
END:VEVENT
END:VCALENDAR