BEGIN:VCALENDAR
VERSION:2.0
PRODID:-//SSAC Hockey - ECPv4.5.7//NONSGML v1.0//EN
CALSCALE:GREGORIAN
METHOD:PUBLISH
X-WR-CALNAME:SSAC Hockey
X-ORIGINAL-URL:https://ssac.hockey
X-WR-CALDESC:Events for SSAC Hockey
BEGIN:VEVENT
DTSTART;TZID=America/Edmonton:20251010T170000
DTEND;TZID=America/Edmonton:20251010T180000
DTSTAMP:20260423T041017
CREATED:20250924T202947Z
LAST-MODIFIED:20250924T202947Z
UID:<span 
                data-original-string="OXZC1b3op62wGb8W5GBuxQ==052GTTPnLqOnzIfAOTHyENZ6Jc+tT4a5qqIWc+OWqceqDo8mO9S94P5PJgnUHyyBWXg"
                class="apbct-email-encoder"
                title="This contact has been encoded by Anti-Spam by CleanTalk. Click to decode. To finish the decoding make sure that JavaScript is enabled in your browser.">40<span class="apbct-blur">*************************@ss**.hock</span>ey</span>
SUMMARY:U11 AA HK Practice 17:00 SSA
DESCRIPTION:U11 AA ZerOne Hockeyology @ George S Hughes South Side \n
URL:https://ssac.hockey/event/u11-aa-hk-practice-1700-ssa-2/
LOCATION:10525 72 Ave. NW\, Edmonton\, AB\, T6E 0Z7\, Canada
CATEGORIES:U11 AA,U11 AA ZerOne Hockeyology
END:VEVENT
END:VCALENDAR