BEGIN:VCALENDAR
VERSION:2.0
PRODID:-//SSAC Hockey - ECPv4.5.7//NONSGML v1.0//EN
CALSCALE:GREGORIAN
METHOD:PUBLISH
X-WR-CALNAME:SSAC Hockey
X-ORIGINAL-URL:https://ssac.hockey
X-WR-CALDESC:Events for SSAC Hockey
BEGIN:VEVENT
DTSTART;TZID=America/Edmonton:20250926T180000
DTEND;TZID=America/Edmonton:20250926T191500
DTSTAMP:20260423T062943
CREATED:20250915T162406Z
LAST-MODIFIED:20250915T162406Z
UID:<span 
                data-original-string="rQsVfrspPOlxO6iGHQ6mvw==052M68zb2TlfVyPAGtFaOJ568TrHLFJAGc9/aPPJ8k9RqTSi343lYUCwebhroM5ZnFR"
                class="apbct-email-encoder"
                title="This contact has been encoded by Anti-Spam by CleanTalk. Click to decode. To finish the decoding make sure that JavaScript is enabled in your browser.">40<span class="apbct-blur">*************************@ss**.hock</span>ey</span>
SUMMARY:U11 AA HK SMHA Game 18:00 SOC
DESCRIPTION:U11 AA ZerOne Hockeyology at CAC ZerOne @ Olympiette – Strathcona Minor Hockey Association Pre-Season \n
URL:https://ssac.hockey/event/u11-aa-hk-smha-game-1800-soc/
LOCATION:52029 Range Rd 224\, Sherwood Park\, AB\, T8C 1B5\, Canada
CATEGORIES:U11 AA,U11 AA ZerOne Hockeyology
END:VEVENT
END:VCALENDAR