BEGIN:VCALENDAR
VERSION:2.0
PRODID:-//SSAC Hockey - ECPv4.5.7//NONSGML v1.0//EN
CALSCALE:GREGORIAN
METHOD:PUBLISH
X-WR-CALNAME:SSAC Hockey
X-ORIGINAL-URL:https://ssac.hockey
X-WR-CALDESC:Events for SSAC Hockey
BEGIN:VEVENT
DTSTART;TZID=America/Edmonton:20250918T194500
DTEND;TZID=America/Edmonton:20250918T204500
DTSTAMP:20260423T062840
CREATED:20250915T162403Z
LAST-MODIFIED:20250915T162403Z
UID:<span 
                data-original-string="sbNqPPJSs6lHbTfLFiz4bQ==0529XRyfgG2+4RLYxRYrhDuJVsStRywSETn92Ipd/gNnqBHXcnhSgWQBKwFxpTnYcb+"
                class="apbct-email-encoder"
                title="This contact has been encoded by Anti-Spam by CleanTalk. Click to decode. To finish the decoding make sure that JavaScript is enabled in your browser.">40<span class="apbct-blur">*************************@ss**.hock</span>ey</span>
SUMMARY:U11 AA HK Practice 19:45 KMB
DESCRIPTION:U11 AA ZerOne Hockeyology @ Kinsmen B \n
URL:https://ssac.hockey/event/u11-aa-hk-practice-1945-kmb/
LOCATION:1979 111 St NW\, Edmonton\, AB\, T6J 7C6\, Canada
CATEGORIES:U11 AA,U11 AA ZerOne Hockeyology
END:VEVENT
END:VCALENDAR