BEGIN:VCALENDAR
VERSION:2.0
PRODID:-//SSAC Hockey - ECPv4.5.7//NONSGML v1.0//EN
CALSCALE:GREGORIAN
METHOD:PUBLISH
X-WR-CALNAME:SSAC Hockey
X-ORIGINAL-URL:https://ssac.hockey
X-WR-CALDESC:Events for SSAC Hockey
BEGIN:VEVENT
DTSTART;TZID=America/Edmonton:20250911T183000
DTEND;TZID=America/Edmonton:20250911T193000
DTSTAMP:20260423T062840
CREATED:20250909T224525Z
LAST-MODIFIED:20250909T224525Z
UID:<span 
                data-original-string="cC+RJZGd6q+hyRJU/wvi2w==052LnW09/hR1e2msKOtVdUFhgSoCnChn8LJ+dADjpsINQ1zfNGWsVW49Bb5/VbiV1NL"
                class="apbct-email-encoder"
                title="This contact has been encoded by Anti-Spam by CleanTalk. Click to decode. To finish the decoding make sure that JavaScript is enabled in your browser.">40<span class="apbct-blur">*************************@ss**.hock</span>ey</span>
SUMMARY:U11 AA HK Practice 18:30 CFA
DESCRIPTION:U11 AA ZerOne Hockeyology @ Confederation \n
URL:https://ssac.hockey/event/u11-aa-hk-practice-1830-cfa/
LOCATION:11204 43 Ave NW\, Edmonton\, AB\, T6J 2R3\, Canada
CATEGORIES:U11 AA,U11 AA ZerOne Hockeyology
END:VEVENT
END:VCALENDAR