BEGIN:VCALENDAR
VERSION:2.0
PRODID:-//SSAC Hockey - ECPv4.5.7//NONSGML v1.0//EN
CALSCALE:GREGORIAN
METHOD:PUBLISH
X-WR-CALNAME:SSAC Hockey
X-ORIGINAL-URL:https://ssac.hockey
X-WR-CALDESC:Events for SSAC Hockey
BEGIN:VEVENT
DTSTART;TZID=America/Edmonton:20260325T194500
DTEND;TZID=America/Edmonton:20260325T204500
DTSTAMP:20260422T140728
CREATED:20260319T002216Z
LAST-MODIFIED:20260319T002420Z
UID:<span 
                data-original-string="YsZJEOoVG2JZfnn9TZRq7A==0528LPt/xt/RWPJZCjvA2ojTLn7AagbBUdGl63V7J6jpWgHvWu19e9O08zf0lkD74/J"
                class="apbct-email-encoder"
                title="This contact has been encoded by Anti-Spam by CleanTalk. Click to decode. To finish the decoding make sure that JavaScript is enabled in your browser.">44<span class="apbct-blur">*************************@ss**.hock</span>ey</span>
SUMMARY:U11 AA AC Practice 19:45 TCB
DESCRIPTION:U11 AA ZerOne Athleticare @ Terwillegar B \n
URL:https://ssac.hockey/event/u11-aa-hk-practice-1945-tcb/
LOCATION:2051 Leger Rd NW\, Edmonton\, AB\, T6R 0R8\, Canada
CATEGORIES:U11 AA,U11 AA ZerOne Athleticare
END:VEVENT
END:VCALENDAR