BEGIN:VCALENDAR
VERSION:2.0
PRODID:-//SSAC Hockey - ECPv4.5.7//NONSGML v1.0//EN
CALSCALE:GREGORIAN
METHOD:PUBLISH
X-WR-CALNAME:SSAC Hockey
X-ORIGINAL-URL:https://ssac.hockey
X-WR-CALDESC:Events for SSAC Hockey
BEGIN:VEVENT
DTSTART;TZID=America/Edmonton:20260307T134500
DTEND;TZID=America/Edmonton:20260307T151500
DTSTAMP:20260422T141230
CREATED:20260303T021419Z
LAST-MODIFIED:20260303T021419Z
UID:<span 
                data-original-string="EVpy7lsR7gOzwRlsuXLJHA==052GhxRpw2VjqWkKdFScBeSRiusm02lAq7jQXCRGbfNQiKBvhLbcTXnsnX05fRpAFAE"
                class="apbct-email-encoder"
                title="This contact has been encoded by Anti-Spam by CleanTalk. Click to decode. To finish the decoding make sure that JavaScript is enabled in your browser.">44<span class="apbct-blur">*************************@ss**.hock</span>ey</span>
SUMMARY:U11 AA AC Playoff Game #3 – Capital Division 13:45 BPA
DESCRIPTION:U11 AA ZerOne Athleticare vs Camrose Vikings @ Border Paving | Edgeworth \n
URL:https://ssac.hockey/event/u11-aa-ac-playoff-game-3-capital-division-1345-bpa/
LOCATION:4512 - 53 Street\, Camrose\, AB\, T4V 4S9\, Canada
CATEGORIES:U11 AA,U11 AA ZerOne Athleticare
END:VEVENT
END:VCALENDAR