BEGIN:VCALENDAR
VERSION:2.0
PRODID:-//SSAC Hockey - ECPv4.5.7//NONSGML v1.0//EN
CALSCALE:GREGORIAN
METHOD:PUBLISH
X-WR-CALNAME:SSAC Hockey
X-ORIGINAL-URL:https://ssac.hockey
X-WR-CALDESC:Events for SSAC Hockey
BEGIN:VEVENT
DTSTART;TZID=America/Edmonton:20260306T141500
DTEND;TZID=America/Edmonton:20260306T154500
DTSTAMP:20260422T141653
CREATED:20260303T021418Z
LAST-MODIFIED:20260303T021418Z
UID:<span 
                data-original-string="L/plvHhx/vVOD8EzsJUkFg==052mjgdRtRv3gztdLRWvrrCaOt9S3gW3l1RXiJFPdzryAbZ5i1y0DcBBNyYVEWeKaal"
                class="apbct-email-encoder"
                title="This contact has been encoded by Anti-Spam by CleanTalk. Click to decode. To finish the decoding make sure that JavaScript is enabled in your browser.">44<span class="apbct-blur">*************************@ss**.hock</span>ey</span>
SUMMARY:U11 AA AC Playoff Game #2 – Capital Division 14:15 WC2
DESCRIPTION:U11 AA ZerOne Athleticare at Sturgeon Ultimate IW 720 Sting @ Wetaskiwin Twin 2 \n
URL:https://ssac.hockey/event/u11-aa-ac-playoff-game-2-capital-division-1415-wc2/
CATEGORIES:U11 AA,U11 AA ZerOne Athleticare
END:VEVENT
END:VCALENDAR