BEGIN:VCALENDAR
VERSION:2.0
PRODID:-//SSAC Hockey - ECPv4.5.7//NONSGML v1.0//EN
CALSCALE:GREGORIAN
METHOD:PUBLISH
X-WR-CALNAME:SSAC Hockey
X-ORIGINAL-URL:https://ssac.hockey
X-WR-CALDESC:Events for SSAC Hockey
BEGIN:VEVENT
DTSTART;TZID=America/Edmonton:20260124T180000
DTEND;TZID=America/Edmonton:20260124T191500
DTSTAMP:20260422T182543
CREATED:20260102T014406Z
LAST-MODIFIED:20260102T014406Z
UID:<span 
                data-original-string="TnsHCtU6PbIcNPet709Mzw==052IPwSvCYNUkcX7YpwTbLm1qV7vLo7F609/HJXv4QW/Ce50u0ID+/dTz9xM+9QlKyk"
                class="apbct-email-encoder"
                title="This contact has been encoded by Anti-Spam by CleanTalk. Click to decode. To finish the decoding make sure that JavaScript is enabled in your browser.">43<span class="apbct-blur">*************************@ss**.hock</span>ey</span>
SUMMARY:U11 AA AC Game 18:00 TCA
DESCRIPTION:U11 AA ZerOne Athleticare vs Sherwood Park Barons @ Terwillegar A \n
URL:https://ssac.hockey/event/u11-aa-ac-game-1800-tca-3/
LOCATION:2051 Leger Rd NW\, Edmonton\, AB\, T6R 0R8\, Canada
CATEGORIES:U11 AA,U11 AA ZerOne Athleticare
END:VEVENT
END:VCALENDAR