BEGIN:VCALENDAR
VERSION:2.0
PRODID:-//SSAC Hockey - ECPv4.5.7//NONSGML v1.0//EN
CALSCALE:GREGORIAN
METHOD:PUBLISH
X-WR-CALNAME:SSAC Hockey
X-ORIGINAL-URL:https://ssac.hockey
X-WR-CALDESC:Events for SSAC Hockey
BEGIN:VEVENT
DTSTART;TZID=America/Edmonton:20260122T173000
DTEND;TZID=America/Edmonton:20260122T183000
DTSTAMP:20260422T182658
CREATED:20260102T014400Z
LAST-MODIFIED:20260102T014400Z
UID:<span 
                data-original-string="cQn8iNa7sIJyk+MeYPf30g==052Oh98jbkuCGeBD0iecJl/XNRudCckVFXgqV2LeCpF1MMtOizIaLrJTKHYJPqzyIrD"
                class="apbct-email-encoder"
                title="This contact has been encoded by Anti-Spam by CleanTalk. Click to decode. To finish the decoding make sure that JavaScript is enabled in your browser.">43<span class="apbct-blur">*************************@ss**.hock</span>ey</span>
SUMMARY:U11 AA AC Practice 17:30 SSA
DESCRIPTION:U11 AA ZerOne Athleticare @ George S Hughes South Side \n
URL:https://ssac.hockey/event/u11-aa-ac-practice-1730-ssa-6/
LOCATION:10525 72 Ave. NW\, Edmonton\, AB\, T6E 0Z7\, Canada
CATEGORIES:U11 AA,U11 AA ZerOne Athleticare
END:VEVENT
END:VCALENDAR