BEGIN:VCALENDAR
VERSION:2.0
PRODID:-//SSAC Hockey - ECPv4.5.7//NONSGML v1.0//EN
CALSCALE:GREGORIAN
METHOD:PUBLISH
X-WR-CALNAME:SSAC Hockey
X-ORIGINAL-URL:https://ssac.hockey
X-WR-CALDESC:Events for SSAC Hockey
BEGIN:VEVENT
DTSTART;TZID=America/Edmonton:20260119T184500
DTEND;TZID=America/Edmonton:20260119T194500
DTSTAMP:20260422T182542
CREATED:20260102T014357Z
LAST-MODIFIED:20260102T014357Z
UID:<span 
                data-original-string="smpFA9xprqcMcMdwqqqVeQ==052DOLcY4hbUvqAW2bXVdBlTQISg2xY5sxgc4OFAd88VEOvDA8ChfgT6g2KMcfxAspe"
                class="apbct-email-encoder"
                title="This contact has been encoded by Anti-Spam by CleanTalk. Click to decode. To finish the decoding make sure that JavaScript is enabled in your browser.">43<span class="apbct-blur">*************************@ss**.hock</span>ey</span>
SUMMARY:U11 AA AC Practice 18:45 TCC
DESCRIPTION:U11 AA ZerOne Athleticare @ Terwillegar C \n
URL:https://ssac.hockey/event/u11-aa-ac-practice-1845-tcc-7/
LOCATION:2051 Leger Rd NW\, Edmonton\, AB\, T6R 0R8\, Canada
CATEGORIES:U11 AA,U11 AA ZerOne Athleticare
END:VEVENT
END:VCALENDAR