BEGIN:VCALENDAR
VERSION:2.0
PRODID:-//SSAC Hockey - ECPv4.5.7//NONSGML v1.0//EN
CALSCALE:GREGORIAN
METHOD:PUBLISH
X-WR-CALNAME:SSAC Hockey
X-ORIGINAL-URL:https://ssac.hockey
X-WR-CALDESC:Events for SSAC Hockey
BEGIN:VEVENT
DTSTART;TZID=America/Edmonton:20260112T164500
DTEND;TZID=America/Edmonton:20260112T174500
DTSTAMP:20260422T182607
CREATED:20260102T014357Z
LAST-MODIFIED:20260102T014357Z
UID:<span 
                data-original-string="ReW6FCH3bixxqKyismTc1Q==052bgTEEAxZnAP5I4+HhJcayJLf/Rxqh6dBGVZPThJyUGsrDOleEIURxMYdeVVPQqd6"
                class="apbct-email-encoder"
                title="This contact has been encoded by Anti-Spam by CleanTalk. Click to decode. To finish the decoding make sure that JavaScript is enabled in your browser.">43<span class="apbct-blur">*************************@ss**.hock</span>ey</span>
SUMMARY:U11 AA AC Practice 16:45 MWB
DESCRIPTION:U11 AA ZerOne Athleticare @ Mill Woods B \n
URL:https://ssac.hockey/event/u11-aa-ac-practice-1645-mwb/
LOCATION:7207 28 Ave NW\, Edmonton\, AB\, T6K 3Z3\, Canada
CATEGORIES:U11 AA,U11 AA ZerOne Athleticare
END:VEVENT
END:VCALENDAR