BEGIN:VCALENDAR
VERSION:2.0
PRODID:-//SSAC Hockey - ECPv4.5.7//NONSGML v1.0//EN
CALSCALE:GREGORIAN
METHOD:PUBLISH
X-WR-CALNAME:SSAC Hockey
X-ORIGINAL-URL:https://ssac.hockey
X-WR-CALDESC:Events for SSAC Hockey
BEGIN:VEVENT
DTSTART;TZID=America/Edmonton:20260110T111500
DTEND;TZID=America/Edmonton:20260110T124500
DTSTAMP:20260422T182535
CREATED:20260102T014404Z
LAST-MODIFIED:20260102T014404Z
UID:<span 
                data-original-string="bn2KzzbKy44XdOUN3wDjdg==052JrzwrBbmx/FYd4j5dGpsbRSrwwGo84pDgM0hDzt+R2rH33mYDvdG2ZgJnFXeoAbo"
                class="apbct-email-encoder"
                title="This contact has been encoded by Anti-Spam by CleanTalk. Click to decode. To finish the decoding make sure that JavaScript is enabled in your browser.">43<span class="apbct-blur">*************************@ss**.hock</span>ey</span>
SUMMARY:U11 AA AC Showcase Game 11:15 RRR
DESCRIPTION:U11 AA ZerOne Athleticare at Taber Golden Suns @ Randy Rosen | Sherwood Park \n
URL:https://ssac.hockey/event/u11-aa-ac-showcase-game-1115-rrr/
CATEGORIES:U11 AA,U11 AA ZerOne Athleticare
END:VEVENT
BEGIN:VEVENT
DTSTART;TZID=America/Edmonton:20260110T180000
DTEND;TZID=America/Edmonton:20260110T193000
DTSTAMP:20260422T182535
CREATED:20260102T014404Z
LAST-MODIFIED:20260102T014404Z
UID:<span 
                data-original-string="b+klanKPMINQLd0qI56Oig==0528ndiQY1NrnZXcBw1Ziu3wo3KweieRGjCaHnO9gwKFFMbFZAs0ozPr3bkOSST9ONk"
                class="apbct-email-encoder"
                title="This contact has been encoded by Anti-Spam by CleanTalk. Click to decode. To finish the decoding make sure that JavaScript is enabled in your browser.">43<span class="apbct-blur">*************************@ss**.hock</span>ey</span>
SUMMARY:U11 AA AC Showcase Game 18:00 ARE
DESCRIPTION:U11 AA ZerOne Athleticare vs Fort Saskatchewan Rangers @ Ardrossan East \n
URL:https://ssac.hockey/event/u11-aa-ac-showcase-game-1800-are/
CATEGORIES:U11 AA,U11 AA ZerOne Athleticare
END:VEVENT
END:VCALENDAR