BEGIN:VCALENDAR
VERSION:2.0
PRODID:-//SSAC Hockey - ECPv4.5.7//NONSGML v1.0//EN
CALSCALE:GREGORIAN
METHOD:PUBLISH
X-WR-CALNAME:SSAC Hockey
X-ORIGINAL-URL:https://ssac.hockey
X-WR-CALDESC:Events for SSAC Hockey
BEGIN:VEVENT
DTSTART;TZID=America/Edmonton:20260104T163000
DTEND;TZID=America/Edmonton:20260104T180000
DTSTAMP:20260422T182459
CREATED:20260102T020125Z
LAST-MODIFIED:20260102T020125Z
UID:<span 
                data-original-string="Istzsrg12wRHuaCWdpx/Hg==052T+wAsVVyVewQjrEc8/09/7iew+J9rUN9rV2K3Lut903huC3MKYr5XtD1ga75bLE3"
                class="apbct-email-encoder"
                title="This contact has been encoded by Anti-Spam by CleanTalk. Click to decode. To finish the decoding make sure that JavaScript is enabled in your browser.">43<span class="apbct-blur">*************************@ss**.hock</span>ey</span>
SUMMARY:U11 AA AC Exhibition 16:30 LAC
DESCRIPTION:U11 AA ZerOne Athleticare at Central Alberta Selects @ Lacombe \n
URL:https://ssac.hockey/event/u11-aa-ac-exhibition-1630-lac/
CATEGORIES:U11 AA,U11 AA ZerOne Athleticare
END:VEVENT
END:VCALENDAR