BEGIN:VCALENDAR
VERSION:2.0
PRODID:-//SSAC Hockey - ECPv4.5.7//NONSGML v1.0//EN
CALSCALE:GREGORIAN
METHOD:PUBLISH
X-WR-CALNAME:SSAC Hockey
X-ORIGINAL-URL:https://ssac.hockey
X-WR-CALDESC:Events for SSAC Hockey
BEGIN:VEVENT
DTSTART;TZID=America/Edmonton:20260103T163000
DTEND;TZID=America/Edmonton:20260103T173000
DTSTAMP:20260422T182657
CREATED:20251228T010040Z
LAST-MODIFIED:20260102T014401Z
UID:<span 
                data-original-string="IQAZuWYe9SGXqbbWO13Q5g==052r21sgGIA8FKo6ETwtvjOe9VyDuWgVe8GfYy30Z7Yf0dN6ecBSfC4EQIAsGun4HoI"
                class="apbct-email-encoder"
                title="This contact has been encoded by Anti-Spam by CleanTalk. Click to decode. To finish the decoding make sure that JavaScript is enabled in your browser.">43<span class="apbct-blur">*************************@ss**.hock</span>ey</span>
SUMMARY:U11 AA AC Practice 16:30 SSA
DESCRIPTION:U11 AA ZerOne Athleticare @ George S Hughes South Side \n
URL:https://ssac.hockey/event/u11-aa-ac-practice-1630-ssa-4/
LOCATION:10525 72 Ave. NW\, Edmonton\, AB\, T6E 0Z7\, Canada
CATEGORIES:U11 AA,U11 AA ZerOne Athleticare
END:VEVENT
END:VCALENDAR