BEGIN:VCALENDAR
VERSION:2.0
PRODID:-//SSAC Hockey - ECPv4.5.7//NONSGML v1.0//EN
CALSCALE:GREGORIAN
METHOD:PUBLISH
X-WR-CALNAME:SSAC Hockey
X-ORIGINAL-URL:https://ssac.hockey
X-WR-CALDESC:Events for SSAC Hockey
BEGIN:VEVENT
DTSTART;TZID=America/Edmonton:20251130T181500
DTEND;TZID=America/Edmonton:20251130T191500
DTSTAMP:20260422T202234
CREATED:20251021T195715Z
LAST-MODIFIED:20251021T195715Z
UID:<span 
                data-original-string="aFHcfdJfch1MfReMMDseTg==052cYKu84nGwMz5RYQpT6wJEinb6zdija+tX97waV+142lvK1VgVpiPQod0LWYTHy2i"
                class="apbct-email-encoder"
                title="This contact has been encoded by Anti-Spam by CleanTalk. Click to decode. To finish the decoding make sure that JavaScript is enabled in your browser.">41<span class="apbct-blur">*************************@ss**.hock</span>ey</span>
SUMMARY:U11 AA AC Practice 18:15 CFA
DESCRIPTION:U11 AA ZerOne Athleticare @ Confederation \n
URL:https://ssac.hockey/event/u11-aa-ac-practice-1815-cfa-2/
LOCATION:11204 43 Ave NW\, Edmonton\, AB\, T6J 2R3\, Canada
CATEGORIES:U11 AA,U11 AA ZerOne Athleticare
END:VEVENT
END:VCALENDAR