BEGIN:VCALENDAR
VERSION:2.0
PRODID:-//SSAC Hockey - ECPv4.5.7//NONSGML v1.0//EN
CALSCALE:GREGORIAN
METHOD:PUBLISH
X-WR-CALNAME:SSAC Hockey
X-ORIGINAL-URL:https://ssac.hockey
X-WR-CALDESC:Events for SSAC Hockey
BEGIN:VEVENT
DTSTART;TZID=America/Edmonton:20251124T184500
DTEND;TZID=America/Edmonton:20251124T194500
DTSTAMP:20260423T074220
CREATED:20251021T195716Z
LAST-MODIFIED:20251021T195716Z
UID:<span 
                data-original-string="6EawiKbCjEa81zCrW5lt2Q==052V5IgDS7rr/dc8uFwIBpfRzkxvlp5NqJp3I2HUy6HNDftBdB5Wx9w6PG7XBzzDzcx"
                class="apbct-email-encoder"
                title="This contact has been encoded by Anti-Spam by CleanTalk. Click to decode. To finish the decoding make sure that JavaScript is enabled in your browser.">41<span class="apbct-blur">*************************@ss**.hock</span>ey</span>
SUMMARY:U11 AA AC Practice 18:45 TCC
DESCRIPTION:U11 AA ZerOne Athleticare @ Terwillegar C \n
URL:https://ssac.hockey/event/u11-aa-ac-practice-1845-tcc-2/
LOCATION:2051 Leger Rd NW\, Edmonton\, AB\, T6R 0R8\, Canada
CATEGORIES:U11 AA,U11 AA ZerOne Athleticare
END:VEVENT
END:VCALENDAR