BEGIN:VCALENDAR
VERSION:2.0
PRODID:-//SSAC Hockey - ECPv4.5.7//NONSGML v1.0//EN
CALSCALE:GREGORIAN
METHOD:PUBLISH
X-WR-CALNAME:SSAC Hockey
X-ORIGINAL-URL:https://ssac.hockey
X-WR-CALDESC:Events for SSAC Hockey
BEGIN:VEVENT
DTSTART;VALUE=DATE:20251121
DTEND;VALUE=DATE:20251123
DTSTAMP:20260423T093216
CREATED:20251021T195722Z
LAST-MODIFIED:20251021T195722Z
UID:<span 
                data-original-string="5RzGxUZsWTuBN76I2+1Swg==052mZUcMzs/202I8WesRCRsGrVEaAAJFFztdumC5xjWUVq8uBQW6VLFW1NjCdjEfKP5"
                class="apbct-email-encoder"
                title="This contact has been encoded by Anti-Spam by CleanTalk. Click to decode. To finish the decoding make sure that JavaScript is enabled in your browser.">41<span class="apbct-blur">*************************@ss**.hock</span>ey</span>
SUMMARY:U11 AA AC Southwest AA Showdown Tournament
DESCRIPTION:U11 AA ZerOne Athleticare at Southwest AA Showdown Tournament @ Cardel Rec South | Calgary \n
URL:https://ssac.hockey/event/u11-aa-ac-southwest-aa-showdown-tournament/
LOCATION:11950 Country Village Link NE\, Calgary\, AB\, T3K 6E3\, Canada
CATEGORIES:U11 AA,U11 AA ZerOne Athleticare
END:VEVENT
END:VCALENDAR