BEGIN:VCALENDAR
VERSION:2.0
PRODID:-//SSAC Hockey - ECPv4.5.7//NONSGML v1.0//EN
CALSCALE:GREGORIAN
METHOD:PUBLISH
X-WR-CALNAME:SSAC Hockey
X-ORIGINAL-URL:https://ssac.hockey
X-WR-CALDESC:Events for SSAC Hockey
BEGIN:VEVENT
DTSTART;TZID=America/Edmonton:20251115T101500
DTEND;TZID=America/Edmonton:20251115T113000
DTSTAMP:20260423T235307
CREATED:20251021T195721Z
LAST-MODIFIED:20251021T195721Z
UID:<span 
                data-original-string="dX+aOEfiDghfmm4fwmbDtA==052BgfCnqU30iqLaPDD/zwrf9KNhE4w9gF5cbqmmVZ3shfiXiiIEJmkAsd68+0bsbxX"
                class="apbct-email-encoder"
                title="This contact has been encoded by Anti-Spam by CleanTalk. Click to decode. To finish the decoding make sure that JavaScript is enabled in your browser.">41<span class="apbct-blur">*************************@ss**.hock</span>ey</span>
SUMMARY:U11 AA AC Game 10:15 RRR
DESCRIPTION:U11 AA ZerOne Athleticare at Sherwood Park Arrows @ Randy Rosen \n
URL:https://ssac.hockey/event/u11-aa-ac-game-1015-rrr/
CATEGORIES:U11 AA,U11 AA ZerOne Athleticare
END:VEVENT
END:VCALENDAR