BEGIN:VCALENDAR
VERSION:2.0
PRODID:-//SSAC Hockey - ECPv4.5.7//NONSGML v1.0//EN
CALSCALE:GREGORIAN
METHOD:PUBLISH
X-WR-CALNAME:SSAC Hockey
X-ORIGINAL-URL:https://ssac.hockey
X-WR-CALDESC:Events for SSAC Hockey
BEGIN:VEVENT
DTSTART;TZID=America/Edmonton:20251101T163000
DTEND;TZID=America/Edmonton:20251101T173000
DTSTAMP:20260425T005120
CREATED:20250924T202704Z
LAST-MODIFIED:20250924T202704Z
UID:<span 
                data-original-string="T2Iu+IImhIaBzLi1cf75RA==052oQKcHyvzXDRirorTiS8LhcXw4o9cHHkFfjpP3JL79FJa28+ERzrEeVd3XYbxsCsp"
                class="apbct-email-encoder"
                title="This contact has been encoded by Anti-Spam by CleanTalk. Click to decode. To finish the decoding make sure that JavaScript is enabled in your browser.">40<span class="apbct-blur">*************************@ss**.hock</span>ey</span>
SUMMARY:U11 AA AC Practice 16:30 SSA
DESCRIPTION:U11 AA ZerOne Athleticare @ George S Hughes South Side \n
URL:https://ssac.hockey/event/u11-aa-ac-practice-1630-ssa-2/
LOCATION:10525 72 Ave. NW\, Edmonton\, AB\, T6E 0Z7\, Canada
CATEGORIES:U11 AA,U11 AA ZerOne Athleticare
END:VEVENT
END:VCALENDAR