BEGIN:VCALENDAR
VERSION:2.0
PRODID:-//SSAC Hockey - ECPv4.5.7//NONSGML v1.0//EN
CALSCALE:GREGORIAN
METHOD:PUBLISH
X-WR-CALNAME:SSAC Hockey
X-ORIGINAL-URL:https://ssac.hockey
X-WR-CALDESC:Events for SSAC Hockey
BEGIN:VEVENT
DTSTART;TZID=America/Edmonton:20251019T180000
DTEND;TZID=America/Edmonton:20251019T191500
DTSTAMP:20260425T225650
CREATED:20250924T202705Z
LAST-MODIFIED:20250924T202705Z
UID:<span 
                data-original-string="Re08AxAdMlP6KVhcPe4FhQ==052UPgl1StrjCzJ80Ur0bQ+CHrdqWdR5P6UrF8eBdKwvXkiCqUpaXhYn1SfTOtGc9tC"
                class="apbct-email-encoder"
                title="This contact has been encoded by Anti-Spam by CleanTalk. Click to decode. To finish the decoding make sure that JavaScript is enabled in your browser.">40<span class="apbct-blur">*************************@ss**.hock</span>ey</span>
SUMMARY:U11 AA AC Game 18:00 TME
DESCRIPTION:U11 AA ZerOne Athleticare at MLAC Kallar Welding @ Meadows East \n
URL:https://ssac.hockey/event/u11-aa-ac-game-1800-tme/
LOCATION:2704 17 St NW\, Edmonton\, AB\, T6T 1H9\, Canada
CATEGORIES:U11 AA,U11 AA ZerOne Athleticare
END:VEVENT
END:VCALENDAR