BEGIN:VCALENDAR
VERSION:2.0
PRODID:-//SSAC Hockey - ECPv4.5.7//NONSGML v1.0//EN
CALSCALE:GREGORIAN
METHOD:PUBLISH
X-WR-CALNAME:SSAC Hockey
X-ORIGINAL-URL:https://ssac.hockey
X-WR-CALDESC:Events for SSAC Hockey
BEGIN:VEVENT
DTSTART;TZID=America/Edmonton:20250705T110000
DTEND;TZID=America/Edmonton:20250705T193000
DTSTAMP:20260424T123543
CREATED:20250415T190225Z
LAST-MODIFIED:20250621T053739Z
UID:<span 
                data-original-string="8E13uVnACUEdQ/vBU7B5yg==052yik3L+8nxQsyzIILjjIdL1q6KnH76m1pO/7ycb3j0tYMnPMhWxq4BSLQFWao4K6e"
                class="apbct-email-encoder"
                title="This contact has been encoded by Anti-Spam by CleanTalk. Click to decode. To finish the decoding make sure that JavaScript is enabled in your browser.">39<span class="apbct-blur">*************************@ss**.hock</span>ey</span>
SUMMARY:SSAC Golf Tournament 11:00 Mill Woods Golf Course
DESCRIPTION:SSAC Golf Tournament @ Mill Woods Golf Course | BBQ Steak Supper 17:30 \n
URL:https://ssac.hockey/event/ssac-golf-tournament-1200-mill-woods-golf-course/
LOCATION:4540 50 St NW\, Edmonton\, AB\, T6L 6P6\, Canada
CATEGORIES:SSAC Event
END:VEVENT
END:VCALENDAR