BEGIN:VCALENDAR
VERSION:2.0
PRODID:-//SSAC Hockey - ECPv4.5.7//NONSGML v1.0//EN
CALSCALE:GREGORIAN
METHOD:PUBLISH
X-WR-CALNAME:SSAC Hockey
X-ORIGINAL-URL:https://ssac.hockey
X-WR-CALDESC:Events for SSAC Hockey
BEGIN:VEVENT
DTSTART;TZID=America/Edmonton:20250430T190000
DTEND;TZID=America/Edmonton:20250430T210000
DTSTAMP:20260424T155313
CREATED:20250423T170756Z
LAST-MODIFIED:20250423T170756Z
UID:<span 
                data-original-string="mVFdLTJ5sDWP9qMZ2FGV+Q==052DWZdXktt+9KmI+7DZ9+kNv3tTEwVZ8tbaFbf9Pt3dtFgcU0jPlLvFzCECnCSHYQI"
                class="apbct-email-encoder"
                title="This contact has been encoded by Anti-Spam by CleanTalk. Click to decode. To finish the decoding make sure that JavaScript is enabled in your browser.">39<span class="apbct-blur">*************************@ss**.hock</span>ey</span>
SUMMARY:SSAC Annual General Meeting 19:00 Clubhouse
DESCRIPTION:SSAC Annual General Meeting @ Clubhouse \n
URL:https://ssac.hockey/event/ssac-annual-general-meeting-1900-clubhouse/
CATEGORIES:SSAC Event
END:VEVENT
END:VCALENDAR