BEGIN:VCALENDAR
VERSION:2.0
PRODID:-//SSAC Hockey - ECPv4.5.7//NONSGML v1.0//EN
CALSCALE:GREGORIAN
METHOD:PUBLISH
X-WR-CALNAME:SSAC Hockey
X-ORIGINAL-URL:https://ssac.hockey
X-WR-CALDESC:Events for SSAC Hockey
BEGIN:VEVENT
DTSTART;TZID=America/Edmonton:20240418T173000
DTEND;TZID=America/Edmonton:20240418T210000
DTSTAMP:20260425T142151
CREATED:20240404T025514Z
LAST-MODIFIED:20240404T025900Z
UID:<span 
                data-original-string="cqney10icmFtFnKESFiVxA==052wBkOnnKe/SdLTdYferkZZtr+quchIowOzAsm+fBD2gHpNtGBeYnfjEpk82vBfcBU"
                class="apbct-email-encoder"
                title="This contact has been encoded by Anti-Spam by CleanTalk. Click to decode. To finish the decoding make sure that JavaScript is enabled in your browser.">35<span class="apbct-blur">*************************@ss**.hock</span>ey</span>
SUMMARY:SSAC Awards Banquet 17:30
DESCRIPTION:SSAC Awards Banquet @ Evario Events Centre | Holiday Inn \n
URL:https://ssac.hockey/event/ssac-awards-banquet-1730/
LOCATION:950 Parsons Rd SW\, Edmonton\, AB\, T6X 0J4\, Canada
CATEGORIES:SSAC Event
END:VEVENT
END:VCALENDAR