BEGIN:VCALENDAR
VERSION:2.0
PRODID:-//SSAC Hockey - ECPv4.5.7//NONSGML v1.0//EN
CALSCALE:GREGORIAN
METHOD:PUBLISH
X-WR-CALNAME:SSAC Hockey
X-ORIGINAL-URL:https://ssac.hockey
X-WR-CALDESC:Events for SSAC Hockey
BEGIN:VEVENT
DTSTART;TZID=America/Edmonton:20260227T170000
DTEND;TZID=America/Edmonton:20260227T180000
DTSTAMP:20260422T084017
CREATED:20260102T020853Z
LAST-MODIFIED:20260102T020853Z
UID:<span 
                data-original-string="8BMp2XE6nZ0cJOr5EwwyiQ==052qN4GRhCTeTMM7ang9rGTfUJE0TFDMtlOswmB6irMW6gEV0RW6rulHFWxa+5nwInb"
                class="apbct-email-encoder"
                title="This contact has been encoded by Anti-Spam by CleanTalk. Click to decode. To finish the decoding make sure that JavaScript is enabled in your browser.">43<span class="apbct-blur">*************************@ss**.hock</span>ey</span>
SUMMARY:U11 AA HK Practice 17:00 SSA
DESCRIPTION:U11 AA ZerOne Hockeyology @ George S Hughes South Side \n
URL:https://ssac.hockey/event/u11-aa-hk-practice-1700-ssa-10/
LOCATION:10525 72 Ave. NW\, Edmonton\, AB\, T6E 0Z7\, Canada
CATEGORIES:U11 AA,U11 AA ZerOne Hockeyology
END:VEVENT
BEGIN:VEVENT
DTSTART;TZID=America/Edmonton:20260227T181500
DTEND;TZID=America/Edmonton:20260227T191500
DTSTAMP:20260422T084017
CREATED:20260102T073956Z
LAST-MODIFIED:20260102T073956Z
UID:<span 
                data-original-string="t9GusAk2xAeERQ4zZy09cQ==052Hu3E+xyhMDMbJSYtHkOR/1yoRPPwX0vyQD2B8lbNB0+mgt8iXtzB6sYqQaGsM3wJ"
                class="apbct-email-encoder"
                title="This contact has been encoded by Anti-Spam by CleanTalk. Click to decode. To finish the decoding make sure that JavaScript is enabled in your browser.">43<span class="apbct-blur">*************************@ss**.hock</span>ey</span>
SUMMARY:U13 AAA Practice 18:15 DON
DESCRIPTION:U13 AAA Best Marketing @ Donnan \n
URL:https://ssac.hockey/event/u13-aaa-practice-1815-don-18/
LOCATION:9105 80 Avenue\, Edmonton\, AB\, T6C 0N9\, Canada
CATEGORIES:U13 AAA
END:VEVENT
BEGIN:VEVENT
DTSTART;TZID=America/Edmonton:20260227T190000
DTEND;TZID=America/Edmonton:20260227T211500
DTSTAMP:20260422T084017
CREATED:20260104T060119Z
LAST-MODIFIED:20260104T060119Z
UID:<span 
                data-original-string="VuJdrnT0XUdI+ri9BZbkxw==052+cOMPj+4zzF9FbFMyb5LYMSMbl2ITXouiUsiqrWKnKFk/3xopNNcYOm3mXDPi6ZI"
                class="apbct-email-encoder"
                title="This contact has been encoded by Anti-Spam by CleanTalk. Click to decode. To finish the decoding make sure that JavaScript is enabled in your browser.">43<span class="apbct-blur">*************************@ss**.hock</span>ey</span>
SUMMARY:U17 AAA Game 19:00 DWN
DESCRIPTION:U17 AAA United Sport & Cycle Bulldogs at GPAC Centurion Canada Storm @ Design Works North | Grande Prairie \n
URL:https://ssac.hockey/event/u17-aaa-game-1900-dwn-2/
LOCATION:AB
CATEGORIES:U17 AAA
END:VEVENT
BEGIN:VEVENT
DTSTART;TZID=America/Edmonton:20260227T191500
DTEND;TZID=America/Edmonton:20260227T213000
DTSTAMP:20260422T084017
CREATED:20260224T064633Z
LAST-MODIFIED:20260224T064633Z
UID:<span 
                data-original-string="ldG3FG9OO+l9arOKGcxjDw==052BppRemLDouSFLyvy9TpX4P4n7h4V6i4uvyzCVM7y1dSWbbwQ+LN+zOmFXgk3qkJm"
                class="apbct-email-encoder"
                title="This contact has been encoded by Anti-Spam by CleanTalk. Click to decode. To finish the decoding make sure that JavaScript is enabled in your browser.">44<span class="apbct-blur">*************************@ss**.hock</span>ey</span>
SUMMARY:U15 AA IP Playoff Game #2 | Round Robin 19:15 CVB
DESCRIPTION:U15 AA Innovation Physio at CAC Think Green Alberta @ Clareview B \n
URL:https://ssac.hockey/event/u15-aa-ip-playoff-game-2-round-robin-1915-cvb/
LOCATION:3804 139 Avenue NW\, Edmonton\, AB\, T5Y 1Z4\, Canada
CATEGORIES:U15 AA,U15 AA Innovation Physio
END:VEVENT
BEGIN:VEVENT
DTSTART;TZID=America/Edmonton:20260227T200000
DTEND;TZID=America/Edmonton:20260227T221500
DTSTAMP:20260422T084017
CREATED:20260104T082258Z
LAST-MODIFIED:20260104T082258Z
UID:<span 
                data-original-string="7txt1Ac+1iYOWoIjRRYGZA==052WO/a+NgoBFKDxBqSyzCevUXtMb1Q0Dfqpyg8yR2ZXO6ODZd3c+Jq9Pj1/k1Ufs1L"
                class="apbct-email-encoder"
                title="This contact has been encoded by Anti-Spam by CleanTalk. Click to decode. To finish the decoding make sure that JavaScript is enabled in your browser.">43<span class="apbct-blur">*************************@ss**.hock</span>ey</span>
SUMMARY:U18 AA Game 20:00 TMW
DESCRIPTION:U18 AA Don Wheaton at MLAC Elite Promotional Marketing @ Meadows West \n
URL:https://ssac.hockey/event/u18-aa-game-2000-tmw-3/
LOCATION:2704 - 17 St NW\, Edmonton\, AB\, T6T 1H9\, Canada
CATEGORIES:U18 AA,U18 AA Don Wheaton
END:VEVENT
BEGIN:VEVENT
DTSTART;TZID=America/Edmonton:20260227T201500
DTEND;TZID=America/Edmonton:20260227T211500
DTSTAMP:20260422T084017
CREATED:20260103T225637Z
LAST-MODIFIED:20260103T225637Z
UID:<span 
                data-original-string="m+Z4/PSIxcXwtA1ezrKpRQ==052Dwc3ZeSEbFTm0OT/PWhXeHh/JzEMyWfOU6zlhVECXnVIo97/oqf3mEReEouMSBMt"
                class="apbct-email-encoder"
                title="This contact has been encoded by Anti-Spam by CleanTalk. Click to decode. To finish the decoding make sure that JavaScript is enabled in your browser.">43<span class="apbct-blur">*************************@ss**.hock</span>ey</span>
SUMMARY:U15 AAA Practice 20:15 TCD
DESCRIPTION:U15 AAA Southgate Lions @ Terwillegar D \n
URL:https://ssac.hockey/event/u15-aaa-practice-2015-tcd-30/
LOCATION:2051 Leger Rd NW\, Edmonton\, AB\, T6R 0R8\, Canada
CATEGORIES:U15 AAA
END:VEVENT
END:VCALENDAR