BEGIN:VCALENDAR
VERSION:2.0
PRODID:-//SSAC Hockey - ECPv4.5.7//NONSGML v1.0//EN
CALSCALE:GREGORIAN
METHOD:PUBLISH
X-WR-CALNAME:SSAC Hockey
X-ORIGINAL-URL:https://ssac.hockey
X-WR-CALDESC:Events for SSAC Hockey
BEGIN:VEVENT
DTSTART;TZID=America/Edmonton:20250924T194500
DTEND;TZID=America/Edmonton:20250924T204500
DTSTAMP:20260423T103054
CREATED:20250915T162313Z
LAST-MODIFIED:20250915T162936Z
UID:<span 
                data-original-string="EhaZxEihqMfhSXAtpOT+vA==052nx2wG2cSZOHqqLIbm5JUTm1BUzAwGEd5wdOQPHPL5RBjkTxb2T6nsJGncPWiY0HX"
                class="apbct-email-encoder"
                title="This contact has been encoded by Anti-Spam by CleanTalk. Click to decode. To finish the decoding make sure that JavaScript is enabled in your browser.">40<span class="apbct-blur">*************************@ss**.hock</span>ey</span>
SUMMARY:U11 AA AC Practice 19:45 TCB
DESCRIPTION:U11 AA ZerOne Athleticare @ Terwillegar B \n
URL:https://ssac.hockey/event/u11-aa-ac-practice-1645-tcb/
LOCATION:2051 Leger Rd NW\, Edmonton\, AB\, T6R 0R8\, Canada
CATEGORIES:U11 AA,U11 AA ZerOne Athleticare
END:VEVENT
BEGIN:VEVENT
DTSTART;TZID=America/Edmonton:20250924T200000
DTEND;TZID=America/Edmonton:20250924T221500
DTSTAMP:20260423T103054
CREATED:20250916T193217Z
LAST-MODIFIED:20250916T193217Z
UID:<span 
                data-original-string="EzS2jFTer6//9IQoPjI7ug==052xtvgSsPWLBeF4RHg3lHir2OAQSvwdp2fTw1Hv/vq7ip/3zYcs7ZlCPLgtqkctokO"
                class="apbct-email-encoder"
                title="This contact has been encoded by Anti-Spam by CleanTalk. Click to decode. To finish the decoding make sure that JavaScript is enabled in your browser.">40<span class="apbct-blur">*************************@ss**.hock</span>ey</span>
SUMMARY:U16 AA JFM Game 20:00 TCC
DESCRIPTION:U16 AA Cameron Homes at Beaumont Athletic Club @ Terwillegar C – John Ferguson Memorial Pre-Season \n
URL:https://ssac.hockey/event/u16-aa-jfm-game-2000-tcc/
LOCATION:2051 Leger Rd NW\, Edmonton\, AB\, T6R 0R8\, Canada
CATEGORIES:U16 AA,U16 AA Cameron Homes
END:VEVENT
BEGIN:VEVENT
DTSTART;TZID=America/Edmonton:20250924T201500
DTEND;TZID=America/Edmonton:20250924T211500
DTSTAMP:20260423T103054
CREATED:20250916T014118Z
LAST-MODIFIED:20250925T210804Z
UID:<span 
                data-original-string="zYQOC7xEaa3sHQM40htDFg==052JT9dnYll040gXYz43S3+bwcdEqtKPM3Qwl66gXdPtqULuEZCa3qmdFfYeiGMGI/G"
                class="apbct-email-encoder"
                title="This contact has been encoded by Anti-Spam by CleanTalk. Click to decode. To finish the decoding make sure that JavaScript is enabled in your browser.">40<span class="apbct-blur">*************************@ss**.hock</span>ey</span>
SUMMARY:U15 AA IP Practice 20:15 MWB —CANCELLED
DESCRIPTION:U15 AA Innovation Physio@ Mill Woods B \n
URL:https://ssac.hockey/event/u15-aa-ip-practice-2015-mwb/
LOCATION:7207 28 Ave NW\, Edmonton\, AB\, T6K 3Z3\, Canada
CATEGORIES:U15 AA,U15 AA Innovation Physio
END:VEVENT
BEGIN:VEVENT
DTSTART;TZID=America/Edmonton:20250924T201500
DTEND;TZID=America/Edmonton:20250924T223000
DTSTAMP:20260423T103054
CREATED:20250916T233001Z
LAST-MODIFIED:20250916T233001Z
UID:<span 
                data-original-string="oGrauPZdwZ8hC5uk7V3MKg==052RqWALi2J3cIEYdAcmMIpC0p3Qp/9xOL1cRC5Czg22nZ8lRUHOLM3EWRrGNbBqWkM"
                class="apbct-email-encoder"
                title="This contact has been encoded by Anti-Spam by CleanTalk. Click to decode. To finish the decoding make sure that JavaScript is enabled in your browser.">40<span class="apbct-blur">*************************@ss**.hock</span>ey</span>
SUMMARY:U18 AA JFM Game 20:15 ALX
DESCRIPTION:U18 AA Don Wheaton at St Albert Crusaders @ Alexandra – Leduc John Ferguson Memorial Pre-Season \n
URL:https://ssac.hockey/event/u18-aa-jfm-game-2015-alx/
LOCATION:47th Ave. & 49th St.\, Leduc\, AB\, T9E 4C4\, Canada
CATEGORIES:U18 AA,U18 AA Don Wheaton
END:VEVENT
BEGIN:VEVENT
DTSTART;TZID=America/Edmonton:20250924T210000
DTEND;TZID=America/Edmonton:20250924T220000
DTSTAMP:20260423T103054
CREATED:20250916T014223Z
LAST-MODIFIED:20250916T014223Z
UID:<span 
                data-original-string="IPh3r4a18j1CP1xgl/76yA==052qNakJ4OagYohydLccGK+1Bk00pgV748bPuKkWo9tVg8kk/uohRr6aRuSFUc3eG1a"
                class="apbct-email-encoder"
                title="This contact has been encoded by Anti-Spam by CleanTalk. Click to decode. To finish the decoding make sure that JavaScript is enabled in your browser.">40<span class="apbct-blur">*************************@ss**.hock</span>ey</span>
SUMMARY:U15 AA PH Practice 21:00 TCB
DESCRIPTION:U15 AA Pro Hockey Life @ Terwillegar B \n
URL:https://ssac.hockey/event/u15-aa-ph-practice-2100-tcb/
LOCATION:2051 Leger Rd NW\, Edmonton\, AB\, T6R 0R8\, Canada
CATEGORIES:U15 AA,U15 AA Pro Hockey Life
END:VEVENT
BEGIN:VEVENT
DTSTART;TZID=America/Edmonton:20250924T210000
DTEND;TZID=America/Edmonton:20250924T221500
DTSTAMP:20260423T103054
CREATED:20250925T225649Z
LAST-MODIFIED:20250925T225649Z
UID:<span 
                data-original-string="mLbHj2f7yA7oOgLh93H3Ng==052b/KWQpI2dVVENZGii9rfxifzRW2dbptbxyYYM2kgM6ZRKwV7G3iugcq9/xGnq3Yp"
                class="apbct-email-encoder"
                title="This contact has been encoded by Anti-Spam by CleanTalk. Click to decode. To finish the decoding make sure that JavaScript is enabled in your browser.">40<span class="apbct-blur">*************************@ss**.hock</span>ey</span>
SUMMARY:U15 AA IP Practice 21:00 TIA
DESCRIPTION:U15 AA Innovation Physio @ Tipton \n
URL:https://ssac.hockey/event/u15-aa-ip-practice-2100-tia-23/
LOCATION:10828 80 Ave NW\, Edmonton\, AB\, T6E 5B5\, Canada
CATEGORIES:U15 AA,U15 AA Innovation Physio
END:VEVENT
BEGIN:VEVENT
DTSTART;TZID=America/Edmonton:20250924T211500
DTEND;TZID=America/Edmonton:20250924T221500
DTSTAMP:20260423T103054
CREATED:20250916T213805Z
LAST-MODIFIED:20250916T213805Z
UID:<span 
                data-original-string="sa3PiP+rroJ01Hn4sV9k3A==052mcdXvadJd7uED+U981lOYHwi+YH2sPHZ9Bj9k+me9OvrUrYBJEDgipUR3X+4dw8z"
                class="apbct-email-encoder"
                title="This contact has been encoded by Anti-Spam by CleanTalk. Click to decode. To finish the decoding make sure that JavaScript is enabled in your browser.">40<span class="apbct-blur">*************************@ss**.hock</span>ey</span>
SUMMARY:U17 AAA Practice 21:15 KMB
DESCRIPTION:U17 AAA United Sport & Cycle Bulldogs @ Kinsmen B \n
URL:https://ssac.hockey/event/u17-aaa-practice-2115-kmb-7/
LOCATION:1979 111 St NW\, Edmonton\, AB\, T6J 7C6\, Canada
CATEGORIES:U17 AAA
END:VEVENT
END:VCALENDAR