BEGIN:VCALENDAR
VERSION:2.0
PRODID:-//SSAC Hockey - ECPv4.5.7//NONSGML v1.0//EN
CALSCALE:GREGORIAN
METHOD:PUBLISH
X-WR-CALNAME:SSAC Hockey
X-ORIGINAL-URL:https://ssac.hockey
X-WR-CALDESC:Events for SSAC Hockey
BEGIN:VEVENT
DTSTART;TZID=America/Edmonton:20250915T173000
DTEND;TZID=America/Edmonton:20250915T194500
DTSTAMP:20260423T103054
CREATED:20250910T040810Z
LAST-MODIFIED:20250910T040810Z
UID:<span 
                data-original-string="E9j89gtIj1cealv2MhsMLw==052qnKkwxqkDDEctzhen1JPi/ulV4MMICjQNTsTmQDyxI79SllrrM9omMna4YOLJJx1"
                class="apbct-email-encoder"
                title="This contact has been encoded by Anti-Spam by CleanTalk. Click to decode. To finish the decoding make sure that JavaScript is enabled in your browser.">40<span class="apbct-blur">*************************@ss**.hock</span>ey</span>
SUMMARY:U15 AA PH JFM Game 17:30 TCC
DESCRIPTION:U15 AA Pro Hockey Life at SPKAC TJ Sagoo Transport Leafs @ Terwillegar C – John Ferguson Memorial Pre-Season \n
URL:https://ssac.hockey/event/u15-aa-ph-jfm-game-1730-tcc/
LOCATION:2051 Leger Rd NW\, Edmonton\, AB\, T6R 0R8\, Canada
CATEGORIES:U15 AA,U15 AA Pro Hockey Life
END:VEVENT
BEGIN:VEVENT
DTSTART;TZID=America/Edmonton:20250915T191500
DTEND;TZID=America/Edmonton:20250915T201500
DTSTAMP:20260423T103054
CREATED:20250913T220625Z
LAST-MODIFIED:20250913T220625Z
UID:<span 
                data-original-string="ryaw/JI06fU0qy6MHl4cag==052vBL/1losBVmrvzF+2104GH55kHqF4MInF3GNGI8qJhFsxKto52aCITelmGqTPerZ"
                class="apbct-email-encoder"
                title="This contact has been encoded by Anti-Spam by CleanTalk. Click to decode. To finish the decoding make sure that JavaScript is enabled in your browser.">40<span class="apbct-blur">*************************@ss**.hock</span>ey</span>
SUMMARY:U17 AAA Practice 19:15 TCA
DESCRIPTION:U17 AAA United Sport & Cycle @ Terwillegar A \n
URL:https://ssac.hockey/event/u17-aaa-practice-1915-tca-2/
LOCATION:2051 Leger Rd NW\, Edmonton\, AB\, T6R 0R8\, Canada
CATEGORIES:U17 AAA
END:VEVENT
BEGIN:VEVENT
DTSTART;TZID=America/Edmonton:20250915T200000
DTEND;TZID=America/Edmonton:20250915T221500
DTSTAMP:20260423T103054
CREATED:20250910T040724Z
LAST-MODIFIED:20250910T040724Z
UID:<span 
                data-original-string="yfDkOImp0yUpyFh5cYnyPw==052qWoXhIE3EQdQFK2rmNyadqSza6AV2s9Yl7DsiTlw4xYk5PruWhw53bjatDCrwv7d"
                class="apbct-email-encoder"
                title="This contact has been encoded by Anti-Spam by CleanTalk. Click to decode. To finish the decoding make sure that JavaScript is enabled in your browser.">40<span class="apbct-blur">*************************@ss**.hock</span>ey</span>
SUMMARY:U15 AA IP JFM Game 20:00  TCC
DESCRIPTION:U15 AA Innovation Physio at SPKAC Helical Pile Solutions Sabres @ Terwillegar C – John Ferguson Memorial Pre-Season \n
URL:https://ssac.hockey/event/u15-aa-ip-jfm-game-2000-tcc/
LOCATION:2051 Leger Rd NW\, Edmonton\, AB\, T6R 0R8\, Canada
CATEGORIES:U15 AA,U15 AA Innovation Physio
END:VEVENT
BEGIN:VEVENT
DTSTART;TZID=America/Edmonton:20250915T200000
DTEND;TZID=America/Edmonton:20250915T210000
DTSTAMP:20260423T103054
CREATED:20250915T040453Z
LAST-MODIFIED:20250915T040453Z
UID:<span 
                data-original-string="eLsNbXeub7wIGQkDYEQgKA==052Kx4siWD7PyY4rQOQPg1ZWibU2vCm1PSEBFtcXXtH3qopOhjiZXAJE10lGzw45UFL"
                class="apbct-email-encoder"
                title="This contact has been encoded by Anti-Spam by CleanTalk. Click to decode. To finish the decoding make sure that JavaScript is enabled in your browser.">40<span class="apbct-blur">*************************@ss**.hock</span>ey</span>
SUMMARY:U13 AA Practice 20:00 TCB
DESCRIPTION:U13 AA TRAXX Coachlines @ Terwillegar B \n
URL:https://ssac.hockey/event/u13-aa-practice-2000-tcb/
LOCATION:2051 Leger Rd NW\, Edmonton\, AB\, T6R 0R8\, Canada
CATEGORIES:U13 AA,U13 AA Traxx Coachlines
END:VEVENT
BEGIN:VEVENT
DTSTART;TZID=America/Edmonton:20250915T203000
DTEND;TZID=America/Edmonton:20250915T220000
DTSTAMP:20260423T103054
CREATED:20250913T220626Z
LAST-MODIFIED:20250913T220626Z
UID:<span 
                data-original-string="Lhbee7GNn3Y2DQbRBlIWkw==052IyFt+HnabTr8nuV5sAJV0zB8u3BewAjQ7S27syT/6oRwqd47Zdbw96ULqXmMF3TO"
                class="apbct-email-encoder"
                title="This contact has been encoded by Anti-Spam by CleanTalk. Click to decode. To finish the decoding make sure that JavaScript is enabled in your browser.">40<span class="apbct-blur">*************************@ss**.hock</span>ey</span>
SUMMARY:U18 AA Practice 20:30 TCA
DESCRIPTION:U18 AA Don Wheaton @ Terwillegar A \n
URL:https://ssac.hockey/event/u18-aa-practice-2030-tca/
LOCATION:2051 Leger Rd NW\, Edmonton\, AB\, T6R 0R8\, Canada
CATEGORIES:U18 AA,U18 AA Don Wheaton
END:VEVENT
BEGIN:VEVENT
DTSTART;TZID=America/Edmonton:20250915T210000
DTEND;TZID=America/Edmonton:20250915T220000
DTSTAMP:20260423T103054
CREATED:20250915T040454Z
LAST-MODIFIED:20250915T040454Z
UID:<span 
                data-original-string="pKgFQNloCpVOhMk3sZRaJQ==052o9zUABhVPtDgFOl0SKNfI7cJ66YWCjnJPGi1GTXuotUYPfN1xD+spJaBmPNuwO5N"
                class="apbct-email-encoder"
                title="This contact has been encoded by Anti-Spam by CleanTalk. Click to decode. To finish the decoding make sure that JavaScript is enabled in your browser.">40<span class="apbct-blur">*************************@ss**.hock</span>ey</span>
SUMMARY:U16 AA Practice 21:00 TCD
DESCRIPTION:U16 AA Cameron Homes @ Terwillegar D \n
URL:https://ssac.hockey/event/u16-aa-practice-2100-tcd/
LOCATION:2051 Leger Rd NW\, Edmonton\, AB\, T6R 0R8\, Canada
CATEGORIES:U16 AA,U16 AA Cameron Homes
END:VEVENT
END:VCALENDAR