BEGIN:VCALENDAR
VERSION:2.0
PRODID:-//SSAC Hockey - ECPv4.5.7//NONSGML v1.0//EN
CALSCALE:GREGORIAN
METHOD:PUBLISH
X-WR-CALNAME:SSAC Hockey
X-ORIGINAL-URL:https://ssac.hockey
X-WR-CALDESC:Events for SSAC Hockey
BEGIN:VEVENT
DTSTART;TZID=America/Edmonton:20250901T163000
DTEND;TZID=America/Edmonton:20250901T173000
DTSTAMP:20260423T105441
CREATED:20250902T231916Z
LAST-MODIFIED:20250902T231916Z
UID:<span 
                data-original-string="jLIfARrXXfcRXmVlUNKxLQ==052cGdgAGJBFSTRu0QW/qPyasrylxZLNGf2wJP1aUbSZnsWFXvUkw2QsN4XsFIakLp6"
                class="apbct-email-encoder"
                title="This contact has been encoded by Anti-Spam by CleanTalk. Click to decode. To finish the decoding make sure that JavaScript is enabled in your browser.">40<span class="apbct-blur">*************************@ss**.hock</span>ey</span>
SUMMARY:U15 AA IP Practice 16:30 TME
DESCRIPTION:U15 AA Innovation Physio @ Meadows East \n
URL:https://ssac.hockey/event/u15-aa-ip-practice-1630-tme/
LOCATION:2704 17 St NW\, Edmonton\, AB\, T6T 1H9\, Canada
CATEGORIES:U15 AA,U15 AA Innovation Physio
END:VEVENT
BEGIN:VEVENT
DTSTART;TZID=America/Edmonton:20250901T174500
DTEND;TZID=America/Edmonton:20250901T184500
DTSTAMP:20260423T105441
CREATED:20250902T225114Z
LAST-MODIFIED:20250912T003622Z
UID:<span 
                data-original-string="jqs+yZ6KZAaJSspfllHRYw==052A8VV6j1k2JgMy/mKKRWUl/jPSUKV7vz2eGU6E440bd29s1QmcvdyYKkyo6xbSfmU"
                class="apbct-email-encoder"
                title="This contact has been encoded by Anti-Spam by CleanTalk. Click to decode. To finish the decoding make sure that JavaScript is enabled in your browser.">40<span class="apbct-blur">*************************@ss**.hock</span>ey</span>
SUMMARY:U15 AAA Practice 17:45 TME
DESCRIPTION:U15 AAA Southgate Lions @ Meadows East \n
URL:https://ssac.hockey/event/u17-aaa-practice-1745-tme/
LOCATION:2704 17 St NW\, Edmonton\, AB\, T6T 1H9\, Canada
CATEGORIES:U15 AAA
END:VEVENT
BEGIN:VEVENT
DTSTART;TZID=America/Edmonton:20250901T190000
DTEND;TZID=America/Edmonton:20250901T200000
DTSTAMP:20260423T105441
CREATED:20250902T232022Z
LAST-MODIFIED:20250902T232022Z
UID:<span 
                data-original-string="zZRh7qpCYzJ09HT3g9ezvg==052d36rmbhnnOru5m1IjoqpsNNaFEIsuejT44vFZ1NETEDS4DMlB/aKVnB5cMg4YN+k"
                class="apbct-email-encoder"
                title="This contact has been encoded by Anti-Spam by CleanTalk. Click to decode. To finish the decoding make sure that JavaScript is enabled in your browser.">40<span class="apbct-blur">*************************@ss**.hock</span>ey</span>
SUMMARY:U15 AA PH Practice 19:00 TME
DESCRIPTION:U15 AA Pro Hockey Life @ Meadows East \n
URL:https://ssac.hockey/event/u15-aa-ph-practice-1900-tme/
LOCATION:2704 17 St NW\, Edmonton\, AB\, T6T 1H9\, Canada
CATEGORIES:U15 AA,U15 AA Pro Hockey Life
END:VEVENT
END:VCALENDAR