BEGIN:VCALENDAR
VERSION:2.0
PRODID:-//SSAC Hockey - ECPv4.5.7//NONSGML v1.0//EN
CALSCALE:GREGORIAN
METHOD:PUBLISH
X-WR-CALNAME:SSAC Hockey
X-ORIGINAL-URL:https://ssac.hockey
X-WR-CALDESC:Events for SSAC Hockey
BEGIN:VEVENT
DTSTART;TZID=America/Edmonton:20220106T191500
DTEND;TZID=America/Edmonton:20220106T201500
DTSTAMP:20260423T002921
CREATED:20220102T223843Z
LAST-MODIFIED:20220102T223843Z
UID:<span 
                data-original-string="i7J0s5uFfWCpzZDbNgd6wQ==052Ez8XRNDDjulypMfdoEe8Qhd86hHVpd7HCf85rcCVj1UePksI70TlWjMgaUFgCPmq"
                class="apbct-email-encoder"
                title="This contact has been encoded by Anti-Spam by CleanTalk. Click to decode. To finish the decoding make sure that JavaScript is enabled in your browser.">25<span class="apbct-blur">*************************@ss**.hock</span>ey</span>
SUMMARY:U18 AAA Practice 19:15 TCB
DESCRIPTION:U18 AAA BP Athletics @ Terwillegar B \n
URL:https://ssac.hockey/event/u18-aaa-practice-1915-tcb-2/
LOCATION:2051 Leger Rd NW\, Edmonton\, AB\, T6R 0R8\, Canada
CATEGORIES:U18 AAA
END:VEVENT
END:VCALENDAR