BEGIN:VCALENDAR
VERSION:2.0
PRODID:-//SSAC Hockey - ECPv4.5.7//NONSGML v1.0//EN
CALSCALE:GREGORIAN
METHOD:PUBLISH
X-WR-CALNAME:SSAC Hockey
X-ORIGINAL-URL:https://ssac.hockey
X-WR-CALDESC:Events for SSAC Hockey
BEGIN:VEVENT
DTSTART;TZID=America/Edmonton:20211125T184500
DTEND;TZID=America/Edmonton:20211125T194500
DTSTAMP:20260423T081356
CREATED:20211018T061414Z
LAST-MODIFIED:20211018T061414Z
UID:<span 
                data-original-string="pGqDSRo8vU7Unf0S7azD/g==052fkbvyNlxzZ/+pFNDGnan/JMJ/5kxZNKyeJTuJ4R1KE/47rQkvonDzfdhmJkFvuze"
                class="apbct-email-encoder"
                title="This contact has been encoded by Anti-Spam by CleanTalk. Click to decode. To finish the decoding make sure that JavaScript is enabled in your browser.">22<span class="apbct-blur">*************************@ss**.hock</span>ey</span>
SUMMARY:U18 AAA Practice 18:45 TCA
DESCRIPTION:U18 AAA BP Athletics @ Terwillegar A \n
URL:https://ssac.hockey/event/u18-aaa-practice-1845-tca-9/
LOCATION:2051 Leger Rd NW\, Edmonton\, AB\, T6R 0R8\, Canada
CATEGORIES:U18 AAA
END:VEVENT
END:VCALENDAR