BEGIN:VCALENDAR
VERSION:2.0
PRODID:-//SSAC Hockey - ECPv4.5.7//NONSGML v1.0//EN
CALSCALE:GREGORIAN
METHOD:PUBLISH
X-WR-CALNAME:SSAC Hockey
X-ORIGINAL-URL:https://ssac.hockey
X-WR-CALDESC:Events for SSAC Hockey
BEGIN:VEVENT
DTSTART;TZID=America/Edmonton:20260202T210000
DTEND;TZID=America/Edmonton:20260202T220000
DTSTAMP:20260422T085236
CREATED:20260104T082250Z
LAST-MODIFIED:20260104T082250Z
UID:<span 
                data-original-string="RdmJFCj2G3cfg1SnS6oM/g==052Y/SyGn7XnIcPvlYzIcYOqJD9F+B02Im8+h0rscTDofCjk76An/P7n/ob/7mYMHRk"
                class="apbct-email-encoder"
                title="This contact has been encoded by Anti-Spam by CleanTalk. Click to decode. To finish the decoding make sure that JavaScript is enabled in your browser.">43<span class="apbct-blur">*************************@ss**.hock</span>ey</span>
SUMMARY:U18 AA Practice 21:00 TCD
DESCRIPTION:U18 AA Don Wheaton @ Terwillegar D \n
URL:https://ssac.hockey/event/u18-aa-practice-2100-tcd-16/
LOCATION:2051 Leger Rd NW\, Edmonton\, AB\, T6R 0R8\, Canada
CATEGORIES:U18 AA,U18 AA Don Wheaton
END:VEVENT
END:VCALENDAR