BEGIN:VCALENDAR
VERSION:2.0
PRODID:-//SSAC Hockey - ECPv4.5.7//NONSGML v1.0//EN
CALSCALE:GREGORIAN
METHOD:PUBLISH
X-WR-CALNAME:SSAC Hockey
X-ORIGINAL-URL:https://ssac.hockey
X-WR-CALDESC:Events for SSAC Hockey
BEGIN:VEVENT
DTSTART;TZID=America/Edmonton:20250309T154500
DTEND;TZID=America/Edmonton:20250309T180000
DTSTAMP:20260423T184107
CREATED:20250309T082602Z
LAST-MODIFIED:20250309T082602Z
UID:<span 
                data-original-string="CPH1lXB7tTvnU50+CS5ZOQ==052ucwXPAjwdikjPA4I/VvOuiQeKmupQ2fttd70flwdIdchJ3i7H5HoveNdvg1heQkD"
                class="apbct-email-encoder"
                title="This contact has been encoded by Anti-Spam by CleanTalk. Click to decode. To finish the decoding make sure that JavaScript is enabled in your browser.">39<span class="apbct-blur">*************************@ss**.hock</span>ey</span>
SUMMARY:U18 AA Game Division Semi-Final 15:45 CFA
DESCRIPTION:U18 AA Don Wheaton at CAC Butchers & Packers @ Confederation \n
URL:https://ssac.hockey/event/u18-aa-game-division-semi-final-1545-cfa/
LOCATION:11204 43 Ave NW\, Edmonton\, AB\, T6J 2R3\, Canada
CATEGORIES:U18 AA,U18 AA Don Wheaton
END:VEVENT
END:VCALENDAR