BEGIN:VCALENDAR
VERSION:2.0
PRODID:-//SSAC Hockey - ECPv4.5.7//NONSGML v1.0//EN
CALSCALE:GREGORIAN
METHOD:PUBLISH
X-WR-CALNAME:SSAC Hockey
X-ORIGINAL-URL:https://ssac.hockey
X-WR-CALDESC:Events for SSAC Hockey
BEGIN:VEVENT
DTSTART;TZID=America/Edmonton:20250308T200000
DTEND;TZID=America/Edmonton:20250308T221500
DTSTAMP:20260423T165634
CREATED:20250305T010357Z
LAST-MODIFIED:20250305T010357Z
UID:<span 
                data-original-string="gYwcbPkvG2Bxm63hN2jKGA==0527ncOG97w6oVRND/T7al7WPmaXZTqCLWMv8ZyNhEMtimoL6/a9LEmSz+XBVh6ilBO"
                class="apbct-email-encoder"
                title="This contact has been encoded by Anti-Spam by CleanTalk. Click to decode. To finish the decoding make sure that JavaScript is enabled in your browser.">39<span class="apbct-blur">*************************@ss**.hock</span>ey</span>
SUMMARY:U18 AA Game 3 Division Round 20:00 KEA
DESCRIPTION:U18 AA Don Wheaton at MLAC Go Logo Wear @ Kenilworth \n
URL:https://ssac.hockey/event/u18-aa-game-3-division-round-2000-kea/
LOCATION:8313 68A St NW\, Edmonton\, AB\, T6B 0J9\, Canada
CATEGORIES:U18 AA,U18 AA Don Wheaton
END:VEVENT
END:VCALENDAR