BEGIN:VCALENDAR
VERSION:2.0
PRODID:-//SSAC Hockey - ECPv4.5.7//NONSGML v1.0//EN
CALSCALE:GREGORIAN
METHOD:PUBLISH
X-WR-CALNAME:SSAC Hockey
X-ORIGINAL-URL:https://ssac.hockey
X-WR-CALDESC:Events for SSAC Hockey
BEGIN:VEVENT
DTSTART;TZID=America/Edmonton:20260204T200000
DTEND;TZID=America/Edmonton:20260204T221500
DTSTAMP:20260422T085236
CREATED:20260104T082255Z
LAST-MODIFIED:20260104T082255Z
UID:<span 
                data-original-string="r1dJFNTiD8TiSCNRpgp0Ig==052+d6QN/6nU8Ap7VxthJqgz4LKZlw9ZXQ1xjmJ43O7wM0JMynd1HNHQoUPswotQswU"
                class="apbct-email-encoder"
                title="This contact has been encoded by Anti-Spam by CleanTalk. Click to decode. To finish the decoding make sure that JavaScript is enabled in your browser.">43<span class="apbct-blur">*************************@ss**.hock</span>ey</span>
SUMMARY:U18 AA Game 20:00 MWA
DESCRIPTION:U18 AA Don Wheaton at MLAC Elite Promotional Marketing @ Kyle Fundytus Mill Woods A \n
URL:https://ssac.hockey/event/u18-aa-game-2000-mwa-3/
LOCATION:7207 28 Ave NW\, Edmonton\, AB\, T6K 3Z3\, Canada
CATEGORIES:U18 AA,U18 AA Don Wheaton
END:VEVENT
END:VCALENDAR