BEGIN:VCALENDAR
VERSION:2.0
PRODID:-//SSAC Hockey - ECPv4.5.7//NONSGML v1.0//EN
CALSCALE:GREGORIAN
METHOD:PUBLISH
X-WR-CALNAME:SSAC Hockey
X-ORIGINAL-URL:https://ssac.hockey
X-WR-CALDESC:Events for SSAC Hockey
BEGIN:VEVENT
DTSTART;TZID=America/Edmonton:20211206T213000
DTEND;TZID=America/Edmonton:20211206T223000
DTSTAMP:20260422T093422
CREATED:20211027T085740Z
LAST-MODIFIED:20211122T223141Z
UID:<span 
                data-original-string="kbiISiQk1lsHy8IKGI7N0g==052tSZFR+ZWzZrZCgdM2/MtSugnBpFLVHkANGFZ1LrUkfrMO1/ByOtshMtivm+PA/QJ"
                class="apbct-email-encoder"
                title="This contact has been encoded by Anti-Spam by CleanTalk. Click to decode. To finish the decoding make sure that JavaScript is enabled in your browser.">22<span class="apbct-blur">*************************@ss**.hock</span>ey</span>
SUMMARY:U18 AA DW Practice 21:30 KEA
DESCRIPTION:U18 AA Don Wheaton @ Kenilworth \n
URL:https://ssac.hockey/event/u18-aa-dw-practice-2030-kea-2/
LOCATION:8313 68A St NW\, Edmonton\, AB\, T6B 0J9\, Canada
CATEGORIES:U18 AA,U18 AA Don Wheaton
END:VEVENT
END:VCALENDAR