BEGIN:VCALENDAR
VERSION:2.0
PRODID:-//SSAC Hockey - ECPv4.5.7//NONSGML v1.0//EN
CALSCALE:GREGORIAN
METHOD:PUBLISH
X-WR-CALNAME:SSAC Hockey
X-ORIGINAL-URL:https://ssac.hockey
X-WR-CALDESC:Events for SSAC Hockey
BEGIN:VEVENT
DTSTART;TZID=America/Edmonton:20211213T200000
DTEND;TZID=America/Edmonton:20211213T221500
DTSTAMP:20260422T225826
CREATED:20211122T223248Z
LAST-MODIFIED:20211122T223248Z
UID:<span 
                data-original-string="DjuwMdWqZFG1rbpu5tavOA==052MfPJkukvbO+Rxt6XCaMZMs0fFF7kfiEJIY2HSz+oxlBH8r4DfzpgYjXat0r6JqaB"
                class="apbct-email-encoder"
                title="This contact has been encoded by Anti-Spam by CleanTalk. Click to decode. To finish the decoding make sure that JavaScript is enabled in your browser.">23<span class="apbct-blur">*************************@ss**.hock</span>ey</span>
SUMMARY:U18 AA DW Game 20:00 CVB
DESCRIPTION:U18 AA Don Wheaton at MLAC Go Logo Wear @ Clareview B \n
URL:https://ssac.hockey/event/u18-aa-dw-game-2000-cvb/
LOCATION:3804 139 Avenue NW\, Edmonton\, T5Y 1Z4\, Canada
CATEGORIES:U18 AA,U18 AA Don Wheaton
END:VEVENT
END:VCALENDAR