BEGIN:VCALENDAR
VERSION:2.0
PRODID:-//SSAC Hockey - ECPv4.5.7//NONSGML v1.0//EN
CALSCALE:GREGORIAN
METHOD:PUBLISH
X-WR-CALNAME:SSAC Hockey
X-ORIGINAL-URL:https://ssac.hockey
X-WR-CALDESC:Events for SSAC Hockey
BEGIN:VEVENT
DTSTART;TZID=America/Edmonton:20220125T200000
DTEND;TZID=America/Edmonton:20220125T221500
DTSTAMP:20260426T022759
CREATED:20220102T004618Z
LAST-MODIFIED:20220102T004618Z
UID:<span 
                data-original-string="gbwgWkjveJPggyN2l+J58g==052lcWXxh4UPelMmHlZKM8mizmd63j3N+9nzLn3hwPRELkPklKgzXaKfPX27Hw5ZNq7"
                class="apbct-email-encoder"
                title="This contact has been encoded by Anti-Spam by CleanTalk. Click to decode. To finish the decoding make sure that JavaScript is enabled in your browser.">25<span class="apbct-blur">*************************@ss**.hock</span>ey</span>
SUMMARY:U18 AA DW Game 20:00 CDA
DESCRIPTION:U18 AA Don Wheaton at KC Colts @ Castle Downs A \n
URL:https://ssac.hockey/event/u18-aa-dw-game-2000-cda/
LOCATION:11520 - 153 Avenue NW\, Edmonton\, AB\, T5X 6A3\, Canada
CATEGORIES:U18 AA,U18 AA Don Wheaton
END:VEVENT
END:VCALENDAR