BEGIN:VCALENDAR
VERSION:2.0
PRODID:-//SSAC Hockey - ECPv4.5.7//NONSGML v1.0//EN
CALSCALE:GREGORIAN
METHOD:PUBLISH
X-WR-CALNAME:SSAC Hockey
X-ORIGINAL-URL:https://ssac.hockey
X-WR-CALDESC:Events for SSAC Hockey
BEGIN:VEVENT
DTSTART;TZID=America/Edmonton:20220131T213000
DTEND;TZID=America/Edmonton:20220131T223000
DTSTAMP:20260425T003338
CREATED:20220102T004126Z
LAST-MODIFIED:20220102T004126Z
UID:<span 
                data-original-string="uZkELIDzOi8xAVdWcpeFQw==052k3UHvjXAkMArCX+LjnngHQ+Xp168v6VqNESTxcr+jcEw+v5ojAh5TpE4EpzJtbTO"
                class="apbct-email-encoder"
                title="This contact has been encoded by Anti-Spam by CleanTalk. Click to decode. To finish the decoding make sure that JavaScript is enabled in your browser.">25<span class="apbct-blur">*************************@ss**.hock</span>ey</span>
SUMMARY:U18 AA CB Practice 21:30 KEA
DESCRIPTION:U18 AA Canadian Brewhouse @ Kenilworth \n
URL:https://ssac.hockey/event/u18-aa-cb-practice-2130-kea-15/
LOCATION:8313 68A St NW\, Edmonton\, AB\, T6B 0J9\, Canada
CATEGORIES:U18 AA,U18 AA Canadian Brewhouse
END:VEVENT
END:VCALENDAR